BEGIN:VCALENDAR
VERSION:2.0
PRODID:-//wp-events-plugin.com//7.2.3.1//EN
TZID:America/New_York
X-WR-TIMEZONE:America/New_York
BEGIN:VEVENT
UID:152588@kingstonhappenings.org
DTSTART;TZID=America/New_York:20251108T190000
DTEND;TZID=America/New_York:20251114T170000
DTSTAMP:20251105T201542Z
URL:https://kingstonhappenings.org/events/fallforart-com/
SUMMARY:FallforArt.com
DESCRIPTION:Fallforart.org’s Annual ONLINE Juried Art Show\, Sale and Com
 munity Fundraiser\nJoin us for Fallforart.org’s Annual ONLINE Juried Art
  Show\, Sale\, and Community Fundraiser\, proudly sponsored by the Jewish 
 Federation of Ulster County. This year’s event runs from 7pm Saturday\, 
 November 8th through 5pm Friday\, November 14th\, bringing the Hudson Vall
 ey’s finest artists right to your screen. Now in its 29th year\, Fall fo
 r Art continues to unite creativity\, philanthropy\, and community spirit 
 in one dynamic virtual experience.\nA Tradition of Art and ImpactSince its
  founding in 1996\, Fall for Art has showcased the Hudson Valley’s most 
 gifted artists in a juried art show and sale. Over nearly three decades\, 
 this beloved event has evolved—embracing new technology to reach a wider
  audience while maintaining its commitment to quality and connection.\nSho
 p Local. Support Regional Nonprofits. Share in the Celebration.By particip
 ating in this year’s online event\, you’re not only discovering incred
 ible artwork\, you’re helping to uplift our community. Proceeds benefit 
 vital regional organizations including Angel Food East\, Circle of Friends
  for the Dying\, Hudson Valley LGBTQ+ Community Center\, Jewish Family Ser
 vices\, Oncology Support Program\, MyKingstonKids\, People’s Place\, and
  R.Y.A.N. House. Explore\, collect\, and contribute at Fallforart.org\, wh
 ere art and generosity come together in perfect harmony.
ATTACH;FMTTYPE=image/jpeg:https://kingstonhappenings.org/wp-content/upload
 s/2025/11/FallforArt-Kingston-Happenings.png
CATEGORIES:@Featured,Art,Community,Virtual
LOCATION:Virtual Event Only\, Check event for details\, Kingston\, NY\, 124
 01\, United States
GEO:41.935263;-74.018987
X-APPLE-STRUCTURED-LOCATION;VALUE=URI;X-ADDRESS=Check event for details\, K
 ingston\, NY\, 12401\, United States;X-APPLE-RADIUS=100;X-TITLE=Virtual Ev
 ent Only:geo:41.935263,-74.018987
END:VEVENT
BEGIN:VTIMEZONE
TZID:America/New_York
X-LIC-LOCATION:America/New_York
BEGIN:STANDARD
DTSTART:20251102T010000
TZOFFSETFROM:-0400
TZOFFSETTO:-0500
TZNAME:EST
END:STANDARD
END:VTIMEZONE
END:VCALENDAR