BEGIN:VCALENDAR
VERSION:2.0
PRODID:-//wp-events-plugin.com//7.2.3.1//EN
TZID:America/New_York
X-WR-TIMEZONE:America/New_York
BEGIN:VEVENT
UID:152151@kingstonhappenings.org
DTSTART;TZID=America/New_York:20251008T193000
DTEND;TZID=America/New_York:20251008T193000
DTSTAMP:20251012T231546Z
URL:https://kingstonhappenings.org/events/fall-showcase-concert-presented-
 by-suny-ulster-music-dept/
SUMMARY:Fall Showcase Concert presented by SUNY Ulster Music Dept.
DESCRIPTION:The first concert of our annual fall series will be in the Quim
 by Theater in Vanderlyn Hall on the Stone Ridge Campus.The concert will fe
 ature the College Chorus\, African Music Ensemble\, Percussion Ensemble\, 
 and the College/Community Band.The concert is free and open to the public.
 Donations are greatly appreciated.\nFor more information\, contact Janet G
 ehres at gehresj@sunyulster.edu.
ATTACH;FMTTYPE=image/jpeg:https://kingstonhappenings.org/wp-content/upload
 s/2025/10/556019534_1364663715669954_4098139229876224481_n.jpg
CATEGORIES:@Featured,@Newsletter,Community,Music,Nightlife and
 entertainment
LOCATION:SUNY Ulster\, 491 Cottekill Rd.\, Stone Ridge\, NY\, 12484\, Unite
 d States
GEO:41.852261;-74.13067590000003
X-APPLE-STRUCTURED-LOCATION;VALUE=URI;X-ADDRESS=491 Cottekill Rd.\, Stone R
 idge\, NY\, 12484\, United States;X-APPLE-RADIUS=100;X-TITLE=SUNY Ulster:g
 eo:41.852261,-74.13067590000003
END:VEVENT
BEGIN:VTIMEZONE
TZID:America/New_York
X-LIC-LOCATION:America/New_York
BEGIN:DAYLIGHT
DTSTART:20250309T030000
TZOFFSETFROM:-0500
TZOFFSETTO:-0400
TZNAME:EDT
END:DAYLIGHT
END:VTIMEZONE
END:VCALENDAR