BEGIN:VCALENDAR
VERSION:2.0
PRODID:-//wp-events-plugin.com//7.2.3.1//EN
TZID:America/New_York
X-WR-TIMEZONE:America/New_York
BEGIN:VEVENT
UID:152618@kingstonhappenings.org
DTSTART;TZID=America/New_York:20251118T190000
DTEND;TZID=America/New_York:20251118T210000
DTSTAMP:20251107T142535Z
URL:https://kingstonhappenings.org/events/faith-in-action-breaking-bread-w
 ith-neighbors-an-interfaith-gathering-in-gratitude/
SUMMARY:Faith in Action: Breaking Bread with Neighbors\, An Interfaith Gath
 ering in Gratitude
DESCRIPTION:The Kingston Interfaith Council invites you to come together wi
 th our neighbors for our 34th annual Gathering in Gratitude. During this s
 eason of thanks\, we break bread over song and prayer. Enjoy songs\, teach
 ings\, and food presented by our Jewish\, Christian\, Unitarian Universali
 sts\, Muslim\, Buddhist &amp\; Indigenous Faith Communities. Bring an open
  heart and a dessert to share. The event is free\, though we will collect 
 donations to support the Blue Fridge at Clinton Ave Church.
ATTACH;FMTTYPE=image/jpeg:https://kingstonhappenings.org/wp-content/upload
 s/2025/11/Interfaith-Gathering-Flyer-Nov-2025.png
CATEGORIES:@Featured,Community,Festivals and major community events
LOCATION:Congregation Emanuel of the Hudson Valley\, 243 Albany Ave\, Kings
 ton\, NY\, 12401\, United States
GEO:41.9358414;-74.00681729999997
X-APPLE-STRUCTURED-LOCATION;VALUE=URI;X-ADDRESS=243 Albany Ave\, Kingston\,
  NY\, 12401\, United States;X-APPLE-RADIUS=100;X-TITLE=Congregation Emanue
 l of the Hudson Valley:geo:41.9358414,-74.00681729999997
END:VEVENT
BEGIN:VTIMEZONE
TZID:America/New_York
X-LIC-LOCATION:America/New_York
BEGIN:STANDARD
DTSTART:20251102T010000
TZOFFSETFROM:-0400
TZOFFSETTO:-0500
TZNAME:EST
END:STANDARD
END:VTIMEZONE
END:VCALENDAR