BEGIN:VCALENDAR
VERSION:2.0
PRODID:-//wp-events-plugin.com//7.2.3.1//EN
TZID:America/New_York
X-WR-TIMEZONE:America/New_York
BEGIN:VEVENT
UID:154938@kingstonhappenings.org
DTSTART;TZID=America/New_York:20260301T110000
DTEND;TZID=America/New_York:20260301T150000
DTSTAMP:20260223T152207Z
URL:https://kingstonhappenings.org/events/eying/
SUMMARY:Eying
DESCRIPTION:One Day Workshop: Eying\, with Rebecca Holderness\n\nSunday\, M
 arch 1\n\n12 - 5 pm\n\n18+\n\n$40\n\n“Eyeing” are small group workshop
 s designed to nurture and support creativity in uncertain times.\n\n“Eyi
 ng” offers strategies to encourage creative story-making and to keep ali
 ve the creative\n\nimpulse in all of us. Creativity is a central part of o
 ur humanity. The creative process can be a\n\nbuffer against the stresses 
 and anxieties of our time. Storytelling is fundamental to how we\n\ncommun
 icate at every moment of our lives. From daily recounting to art making or
  scholarship\;\n\nWe are telling stories. “Eyeing” sharpens and deepen
 s this impulse\, rebuilding individual agency\n\nand reinforcing a commitm
 ent to authenticity.\n\nAll materials are provided.\n\n-------------------
 ----------------------\n\nPlease register at least a week in advance to gu
 arantee your spot. Scholarship availability closes 2 weeks prior to the st
 art of class.\n\n-----------------------------------------\n\nWe believe i
 n access to art education for all. It takes the whole community to generat
 e the equity our pay-what-you-can tuition generates. Behind the scenes\, w
 e work to bridge the financial gap between what our students can pay and w
 hat we need to sustain our programs. Please consider carefully before you 
 use our discount codes.\n\nScholarship Codes:\nFor 25% discount use code "
 25OFF\n\nFor 50% discount use code "50OFF"\n\nFor75% discount use code "75
 OFF"\n\nThis economic justice map from The Sliding Scale: A Tool of Econo
 mic Justice by Alexis J. Cunningfolk is useful to assess where you may fa
 ll on the financial spectrum of pay what you can.\n\nTo request 100% off t
 uition\, please contact chris@mkad.art
ATTACH;FMTTYPE=image/jpeg:https://kingstonhappenings.org/wp-content/upload
 s/2026/01/Eying.jpeg
CATEGORIES:@Featured,@Newsletter,Educational classes and lectures
LOCATION:Midtown Kingston Arts District and the D.R.A.W.\, 20 Cedar Street\
 , Kingston\, NY\, 12401\, United States
GEO:41.928545;-74.004206
X-APPLE-STRUCTURED-LOCATION;VALUE=URI;X-ADDRESS=20 Cedar Street\, Kingston\
 , NY\, 12401\, United States;X-APPLE-RADIUS=100;X-TITLE=Midtown Kingston A
 rts District and the D.R.A.W.:geo:41.928545,-74.004206
END:VEVENT
BEGIN:VTIMEZONE
TZID:America/New_York
X-LIC-LOCATION:America/New_York
BEGIN:STANDARD
DTSTART:20251102T010000
TZOFFSETFROM:-0400
TZOFFSETTO:-0500
TZNAME:EST
END:STANDARD
END:VTIMEZONE
END:VCALENDAR