BEGIN:VCALENDAR
VERSION:2.0
PRODID:-//wp-events-plugin.com//7.2.3.1//EN
TZID:America/New_York
X-WR-TIMEZONE:America/New_York
BEGIN:VEVENT
UID:152805@kingstonhappenings.org
DTSTART;TZID=America/New_York:20251127T000000
DTEND;TZID=America/New_York:20260111T235900
DTSTAMP:20251222T170711Z
URL:https://kingstonhappenings.org/events/exhibition-rahim-fortune-between
 -a-memory-and-me/
SUMMARY:Exhibition: Rahim Fortune: Between a Memory and Me
DESCRIPTION:Between a Memory and Me features the work of Rahim Fortune (b. 
 1994). Born in Austin\, Texas and raised in the Chickasaw Nation of Oklaho
 ma\, Fortune uses photography to interrogate American identity\, exploring
  the connections between the families and communities he photographs and t
 he land they inhabit\, the histories embedded in the landscape of the Amer
 ican South\, and the traditions they carry forward.\n\nFortune’s black-a
 nd-white photographs from his Hardtack project weave together tender and
  reverent portraits\, vast landscapes\, and close-detail studies. Through 
 a focus on Black American life\, these words both draw from the history of
  photography and reframe the history of photographic representation of the
  South. The work is also deeply personal: it emerged from the artist seeki
 ng connection\, kinship\, and home following the loss of both of his paren
 ts. Fortune’s new color photographs\, created in response to the Texas A
 frican American Photography archive\, are exhibited here for the first tim
 e. His short film takes us through the fields and roads of rural Texas\, l
 ingering lovingly on quiet\, exquisite details.\n\nThis presentation inclu
 des new photographs originally commissioned by Aperture and Documentary Ar
 ts.\n\nIMAGE:  Prairie View Homecoming Parade\, Prairie View\, Texas\, 2
 024
ATTACH;FMTTYPE=image/jpeg:https://kingstonhappenings.org/wp-content/upload
 s/2025/11/Screenshot-2025-11-24-at-8.50.41-AM.png
CATEGORIES:Art,Attraction Hours,Educational classes and lectures,Museum
 and historic site hours
LOCATION:Center for Photography at Woodstock(CPW)\, 25 Dederick St. \, King
 ston\, NY\, 12401\, United States
GEO:41.92761;-73.998774
X-APPLE-STRUCTURED-LOCATION;VALUE=URI;X-ADDRESS=25 Dederick St. \, Kingston
 \, NY\, 12401\, United States;X-APPLE-RADIUS=100;X-TITLE=Center for Photog
 raphy at Woodstock(CPW):geo:41.92761,-73.998774
END:VEVENT
BEGIN:VTIMEZONE
TZID:America/New_York
X-LIC-LOCATION:America/New_York
BEGIN:STANDARD
DTSTART:20251102T010000
TZOFFSETFROM:-0400
TZOFFSETTO:-0500
TZNAME:EST
END:STANDARD
END:VTIMEZONE
END:VCALENDAR