BEGIN:VCALENDAR
VERSION:2.0
PRODID:-//wp-events-plugin.com//7.2.3.1//EN
TZID:America/New_York
X-WR-TIMEZONE:America/New_York
BEGIN:VEVENT
UID:152799@kingstonhappenings.org
DTSTART;TZID=America/New_York:20251127T110000
DTEND;TZID=America/New_York:20260111T170000
DTSTAMP:20251222T170722Z
URL:https://kingstonhappenings.org/events/exhibition-kinship-community-sel
 ections-from-the-texas-african-american-photography-archive/
SUMMARY:Exhibition: Kinship & Community: Selections from the Texas African 
 American Photography Archive
DESCRIPTION:During the twentieth century\, nearly every small town in the U
 nited States boasted a local studio photographer. These skilled image make
 rs were dedicated to recording the portraits and events of their communiti
 es. Much of this vernacular visual culture has been dispersed or destroyed
 . Kinship &amp\; Community takes a look at a rare slice of that history\
 , focusing on the work of Black community photographers working in urban n
 eighborhoods in Dallas and Houston and small towns in East Texas from 1942
  to 1984.\n\nCentral to the exhibition is the role of the community photog
 rapher\, one who documents\, even shapes\, a close-knit place\, emphasizin
 g the people and rituals of everyday life. The photographs in Kinship &am
 p\; Community show aspects of everyday life: parties\, rodeos\, church me
 etings\, parades\, political gatherings\, and school photos. Although thes
 e works span some of the most volatile and consequential years of the Civi
 l Rights Movement\, they show collectively the daily experiences of Black 
 life in Texas against the backdrop of segregation.\n\nThe photographs in t
 his exhibition are drawn from the Texas African American Photography Archi
 ve (TAAP)\, founded in 1995 by writer and filmmaker Alan Govenar and artis
 t Kaleta Doolin. TAAP is a project of the Dallas-based cultural organizati
 on Documentary Arts\, a unique repository that preserves over 60\,000 phot
 ographs by Black small-town Texas photographers\, from 1870 to the present
 \, including the archives of more than a dozen individual photography stud
 ios.\n\nKinship &amp\; Community was curated by Nicole R. Fleetwood with 
 research assistance from Eva Cilman and Anisa Jackson.\n\nThis exhibition 
 is accompanied by the publication Kinship &amp\; Community: Selections fr
 om the Texas African American Photography Archive\, Nicole R. Fleetwood a
 nd Brian Wallis\, editors  (forthcoming from Aperture and Documentary Art
 s).\n\nIMAGE: Social tea hosted by Josie Washington (standing center in bl
 ack)\, Dallas\, Texas. ca. 1955. Unknown photographer.
ATTACH;FMTTYPE=image/jpeg:https://kingstonhappenings.org/wp-content/upload
 s/2025/11/Screenshot-2025-11-24-at-8.39.48-AM.png
CATEGORIES:Art,Community,Museum and historic site hours
LOCATION:Center for Photography at Woodstock(CPW)\, 25 Dederick St. \, King
 ston\, NY\, 12401\, United States
GEO:41.92761;-73.998774
X-APPLE-STRUCTURED-LOCATION;VALUE=URI;X-ADDRESS=25 Dederick St. \, Kingston
 \, NY\, 12401\, United States;X-APPLE-RADIUS=100;X-TITLE=Center for Photog
 raphy at Woodstock(CPW):geo:41.92761,-73.998774
END:VEVENT
BEGIN:VTIMEZONE
TZID:America/New_York
X-LIC-LOCATION:America/New_York
BEGIN:STANDARD
DTSTART:20251102T010000
TZOFFSETFROM:-0400
TZOFFSETTO:-0500
TZNAME:EST
END:STANDARD
END:VTIMEZONE
END:VCALENDAR