BEGIN:VCALENDAR
VERSION:2.0
PRODID:-//wp-events-plugin.com//7.2.3.1//EN
TZID:America/New_York
X-WR-TIMEZONE:America/New_York
BEGIN:VEVENT
UID:152803@kingstonhappenings.org
DTSTART;TZID=America/New_York:20250920T110000
DTEND;TZID=America/New_York:20260111T170000
DTSTAMP:20251222T170653Z
URL:https://kingstonhappenings.org/events/exhibition-everyday-culture-seve
 n-projects-by-documentary-arts/
SUMMARY:Exhibition: Everyday Culture: Seven Projects by Documentary Arts
DESCRIPTION:&nbsp\;\n\n\nCulture is synonymous with the practices of everyd
 ay life\, discovered in the multitude of daily rituals and objects passed 
 on from one generation to the next. This exhibition explores aspects of ev
 eryday culture via seven key projects of the pioneering cultural organizat
 ion Documentary Arts. The seven projects embody a unique approach to using
  film and photography to record and document marginalized cultural forms s
 uch as tattooing\, blues music\, traditional artisanal skills\, and commun
 ity photography.\n\nFounded in Dallas in 1985 by writer\, folklorist\, pho
 tographer\, and filmmaker Alan Govenar\, Documentary Arts mines a broad ra
 nge of media to catalyze creative activity\, energize community engagement
 \, and initiate social change around diverse cultures and regional heritag
 e. It has organized folk festivals\, field recordings\, radio shows\, muse
 um exhibitions\, artist-in-schools residencies\, public art projects\, and
  off-Broadway musical theatre productions.\n\nA key question these seven p
 rojects raise in our era of artificial intelligence is: What is “documen
 tary” today? Can revitalized documentary approaches to traditional cultu
 res restore socially engaged\, reality-based rules of truth\, evidence\, a
 nd witness? With its out-of-the-box\, at times maverick approach\, Documen
 tary Arts is adapting and nurturing a public discourse that expands\, huma
 nizes\, and illuminates our connection to everyday culture.\n\nA book\, E
 veryday Culture: Seven Projects by Documentary Arts by Brian Wallis and A
 lan Govenar\, published by CPW\, will accompany the exhibition.\n\n\nIMAGE
 : The grandparents of Esequiel Hernández Jr. at his gravesite\, Redford\,
  Texas\, 1997. Photograph by Alan Govenar.\n\n\n\n\n&nbsp\;
ATTACH;FMTTYPE=image/jpeg:https://kingstonhappenings.org/wp-content/upload
 s/2025/11/Screenshot-2025-11-24-at-8.45.42-AM.png
CATEGORIES:Art,Community,Museum and historic site hours
LOCATION:Center for Photography at Woodstock(CPW)\, 25 Dederick St. \, King
 ston\, NY\, 12401\, United States
GEO:41.92761;-73.998774
X-APPLE-STRUCTURED-LOCATION;VALUE=URI;X-ADDRESS=25 Dederick St. \, Kingston
 \, NY\, 12401\, United States;X-APPLE-RADIUS=100;X-TITLE=Center for Photog
 raphy at Woodstock(CPW):geo:41.92761,-73.998774
END:VEVENT
BEGIN:VTIMEZONE
TZID:America/New_York
X-LIC-LOCATION:America/New_York
BEGIN:DAYLIGHT
DTSTART:20250309T030000
TZOFFSETFROM:-0500
TZOFFSETTO:-0400
TZNAME:EDT
END:DAYLIGHT
BEGIN:STANDARD
DTSTART:20251102T010000
TZOFFSETFROM:-0400
TZOFFSETTO:-0500
TZNAME:EST
END:STANDARD
END:VTIMEZONE
END:VCALENDAR