BEGIN:VCALENDAR
VERSION:2.0
PRODID:-//wp-events-plugin.com//7.2.3.1//EN
TZID:America/New_York
X-WR-TIMEZONE:America/New_York
BEGIN:VEVENT
UID:156407@kingstonhappenings.org
DTSTART;TZID=America/New_York:20260426T093000
DTEND;TZID=America/New_York:20260426T143000
DTSTAMP:20260420T151230Z
URL:https://kingstonhappenings.org/events/esopus-meadows-lighthouse-kayak-
 trip-on-the-hudson-river/
SUMMARY:Esopus Meadows Lighthouse Kayak Trip on the Hudson River
DESCRIPTION:Please see the full description on the Meetup Club Page\nhttps:
 //meetu.ps/e/PQvZR/1hxwc/i
ATTACH;FMTTYPE=image/jpeg:https://kingstonhappenings.org/wp-content/upload
 s/2026/04/625875548_1329060572575314_4295712824408979605_n.jpg
CATEGORIES:@Featured,@Newsletter,Community,Sports and recreation
LOCATION:Kingston\, NY\, 1 FakeStreetNameSoCheckDetail\, Kingston\, NY\, 12
 401\, United States
GEO:41.9270367;-73.99736080000002
X-APPLE-STRUCTURED-LOCATION;VALUE=URI;X-ADDRESS=1 FakeStreetNameSoCheckDeta
 il\, Kingston\, NY\, 12401\, United States;X-APPLE-RADIUS=100;X-TITLE=King
 ston\, NY:geo:41.9270367,-73.99736080000002
END:VEVENT
BEGIN:VTIMEZONE
TZID:America/New_York
X-LIC-LOCATION:America/New_York
BEGIN:DAYLIGHT
DTSTART:20260308T030000
TZOFFSETFROM:-0500
TZOFFSETTO:-0400
TZNAME:EDT
END:DAYLIGHT
END:VTIMEZONE
END:VCALENDAR