BEGIN:VCALENDAR
VERSION:2.0
PRODID:-//wp-events-plugin.com//7.2.3.1//EN
TZID:America/New_York
X-WR-TIMEZONE:America/New_York
BEGIN:VEVENT
UID:155783@kingstonhappenings.org
DTSTART;TZID=America/New_York:20260411T170000
DTEND;TZID=America/New_York:20260411T190000
DTSTAMP:20260413T110904Z
URL:https://kingstonhappenings.org/events/esopus-fire-dept-chicken-parmigi
 ana-dinner/
SUMMARY:Esopus Fire Dept Chicken Parmigiana Dinner
DESCRIPTION:&#x1f37d\;&#xfe0f\;&#x1f525\; Esopus Fire Chicken Parm Dinner 
 – April 11th &#x1f525\;&#x1f37d\;&#xfe0f\;\n\nJoin us for a delicious Ch
 icken Parm Dinner to support the Esopus Fire Department on Friday\, April 
 11th from 5:00 PM to 7:00 PM!\n\nEnjoy a full meal including chicken parme
 san\, pasta\, salad\, bread\, and dessert — dine in or take out.\n\n&#x1
 f4b5\; $20 per meal\n&#x1f476\; Kids under 5 eat free (BUT DO NEED A TICKE
 T)\n\n&#x1f39f\;&#xfe0f\; Tickets must be purchased in advance\nNo tickets
  will be available at the door!!\n\nhttps://esopusfire.betterworld.org/eve
 nts/chicken-parm-dinner-april-2026
ATTACH;FMTTYPE=image/jpeg:https://kingstonhappenings.org/wp-content/upload
 s/2026/03/652614922_1364312752397040_176976827115331473_n-1.jpg
CATEGORIES:@Featured,@Newsletter,Community
LOCATION:Esopus Fire Department\, 1142 Broadway\, Port Ewen\, New York \, U
 nited States
GEO:41.931995;-74.010534
X-APPLE-STRUCTURED-LOCATION;VALUE=URI;X-ADDRESS=1142 Broadway\, Port Ewen\,
  New York \, United States;X-APPLE-RADIUS=100;X-TITLE=Esopus Fire Departme
 nt:geo:41.931995,-74.010534
END:VEVENT
BEGIN:VTIMEZONE
TZID:America/New_York
X-LIC-LOCATION:America/New_York
BEGIN:DAYLIGHT
DTSTART:20260308T030000
TZOFFSETFROM:-0500
TZOFFSETTO:-0400
TZNAME:EDT
END:DAYLIGHT
END:VTIMEZONE
END:VCALENDAR