BEGIN:VCALENDAR
VERSION:2.0
PRODID:-//wp-events-plugin.com//7.2.3.1//EN
TZID:America/New_York
X-WR-TIMEZONE:America/New_York
BEGIN:VEVENT
UID:142645@kingstonhappenings.org
DTSTART;TZID=America/New_York:20241006T083000
DTEND;TZID=America/New_York:20250302T113000
DTSTAMP:20250124T182916Z
URL:https://kingstonhappenings.org/event-recurring/esopus-fire-dept-breakf
 ast/
SUMMARY:Esopus Fire Dept Breakfast
DESCRIPTION:Date: October 6\,2024\n\nTime: 8:30 am till 11:30 am\n\nPlace: 
 The Esopus Fire House\n\nPrice: Donations\n\nFood: Pancakes\, French Toast
 \, Sausage\, Bacon\, Scrambled eggs\,\n\nHome Fries\n\nDrinks: Coffee\, OJ
 \, Tea
CATEGORIES:@Featured,Community
LOCATION:Esopus Fire Department\, 1142 Broadway\, Port Ewen\, New York \, U
 nited States
GEO:41.931995;-74.010534
X-APPLE-STRUCTURED-LOCATION;VALUE=URI;X-ADDRESS=1142 Broadway\, Port Ewen\,
  New York \, United States;X-APPLE-RADIUS=100;X-TITLE=Esopus Fire Departme
 nt:geo:41.931995,-74.010534
END:VEVENT
BEGIN:VTIMEZONE
TZID:America/New_York
X-LIC-LOCATION:America/New_York
BEGIN:DAYLIGHT
DTSTART:20240310T030000
TZOFFSETFROM:-0500
TZOFFSETTO:-0400
TZNAME:EDT
END:DAYLIGHT
BEGIN:STANDARD
DTSTART:20241103T010000
TZOFFSETFROM:-0400
TZOFFSETTO:-0500
TZNAME:EST
END:STANDARD
END:VTIMEZONE
END:VCALENDAR