BEGIN:VCALENDAR
VERSION:2.0
PRODID:-//wp-events-plugin.com//7.2.3.1//EN
TZID:America/New_York
X-WR-TIMEZONE:America/New_York
BEGIN:VEVENT
UID:152276@kingstonhappenings.org
DTSTART;TZID=America/New_York:20251021T140000
DTEND;TZID=America/New_York:20251022T180000
DTSTAMP:20251027T132727Z
URL:https://kingstonhappenings.org/events/erie-canal-boat-seneca-chief-to-
 visit-hudson-river-maritime-museum/
SUMMARY:Erie Canal Boat Seneca Chief to Visit Hudson River Maritime Museum
DESCRIPTION:To mark the 200th anniversary of the Erie Canal’s opening\, t
 he Buffalo Maritime Center (BMC) has built a full-scale replica of the Eri
 e Canal Boat Seneca Chief – Traveling 500 miles along the Erie Canal and
  Hudson River\, the Seneca Chief will visit 28 communities across New York
  State\, concluding with a grand arrival at Pier 26 in New York City – e
 xactly 200 years after the original voyage began.\n\nThe Erie Canal Boat S
 eneca Chief arrives at the Hudson River Maritime Museum on Tuesday\, Octob
 er 21st with tours and events on Tuesday\, October 21st and Wednesday\, Oc
 tober 22nd.\n\nWhile in Kingston\, Buffalo Maritime Center will offer free
 \, family-friendly experiences – including special events\, educational 
 programs\, and hands-on activities – that invite people of all ages to e
 ngage with the legacy of the Erie Canal\, sparking both local and statewid
 e reflection on the canal’s enduring impact.
ATTACH;FMTTYPE=image/jpeg:https://kingstonhappenings.org/wp-content/upload
 s/2025/10/HRMM-Seneca-ACL.png
CATEGORIES:@Featured,@Newsletter,For kids,History,Museum and historic site
 hours
LOCATION:Hudson River Maritime Museum\, 50 Rondout Landing\, Kingston\, NY\
 , 12401\, United States
GEO:41.91886;-73.980984
X-APPLE-STRUCTURED-LOCATION;VALUE=URI;X-ADDRESS=50 Rondout Landing\, Kingst
 on\, NY\, 12401\, United States;X-APPLE-RADIUS=100;X-TITLE=Hudson River Ma
 ritime Museum:geo:41.91886,-73.980984
END:VEVENT
BEGIN:VTIMEZONE
TZID:America/New_York
X-LIC-LOCATION:America/New_York
BEGIN:DAYLIGHT
DTSTART:20250309T030000
TZOFFSETFROM:-0500
TZOFFSETTO:-0400
TZNAME:EDT
END:DAYLIGHT
END:VTIMEZONE
END:VCALENDAR