BEGIN:VCALENDAR
VERSION:2.0
PRODID:-//wp-events-plugin.com//7.2.3.1//EN
TZID:America/New_York
X-WR-TIMEZONE:America/New_York
BEGIN:VEVENT
UID:152114@kingstonhappenings.org
DTSTART;TZID=America/New_York:20251011T190000
DTEND;TZID=America/New_York:20251011T220000
DTSTAMP:20251007T130840Z
URL:https://kingstonhappenings.org/events/eric-divito-trio/
SUMMARY:Eric DiVito Trio
DESCRIPTION:NY area guitarist Eric DiVito brings straight-ahead and modern 
 jazz guitar playing to life with unique arrangements and fresh takes on t
 he jazz guitar tradition.  The group will feature Bob Gingery (bass) an
 d Ray Levier (drums) to round out the interactive and dynamic trio.\n\n&n
 bsp\;\n\nJoin us for dinner and drinks including “the best duck in the H
 udson Valley”\n\nSuggested $20 donation for music\n\nReservations are re
 commended – call 845-687-NERD (6373)
ATTACH;FMTTYPE=image/jpeg:https://kingstonhappenings.org/wp-content/upload
 s/2025/09/2025.10.11_DiVito.jpg
CATEGORIES:@Featured,@Newsletter,Music
LOCATION:Lydia's Cafe\, 7 Old U.S. 209\, Stone Ridge\, New York\, United St
 ates
GEO:41.8306145;-74.17658890000001
X-APPLE-STRUCTURED-LOCATION;VALUE=URI;X-ADDRESS=7 Old U.S. 209\, Stone Ridg
 e\, New York\, United States;X-APPLE-RADIUS=100;X-TITLE=Lydia's Cafe:geo:4
 1.8306145,-74.17658890000001
END:VEVENT
BEGIN:VTIMEZONE
TZID:America/New_York
X-LIC-LOCATION:America/New_York
BEGIN:DAYLIGHT
DTSTART:20250309T030000
TZOFFSETFROM:-0500
TZOFFSETTO:-0400
TZNAME:EDT
END:DAYLIGHT
END:VTIMEZONE
END:VCALENDAR