BEGIN:VCALENDAR
VERSION:2.0
PRODID:-//wp-events-plugin.com//7.2.3.1//EN
TZID:America/New_York
X-WR-TIMEZONE:America/New_York
BEGIN:VEVENT
UID:155869@kingstonhappenings.org
DTSTART;TZID=America/New_York;VALUE=DATE:20260801
DTEND;TZID=America/New_York;VALUE=DATE:20260803
DTSTAMP:20260313T141155Z
URL:https://kingstonhappenings.org/events/envy-frenzy-2026/
SUMMARY:Envy Frenzy 2026
DESCRIPTION:www.envyfrenzy.com\n\nwww.made2envyacutoclub.com\n\nWelcome to 
 the return of Envy Frenzy.
ATTACH;FMTTYPE=image/jpeg:https://kingstonhappenings.org/wp-content/upload
 s/2026/03/Envy-Frenzy-2026-Flyer.jpeg
CATEGORIES:@Featured,Sports and recreation
LOCATION:Downtown Rondout Business District\, 1Broadway\, Kingston\, New Yo
 rk\, 12401\, United States
GEO:41.9181579;-73.98303829999998
X-APPLE-STRUCTURED-LOCATION;VALUE=URI;X-ADDRESS=1Broadway\, Kingston\, New 
 York\, 12401\, United States;X-APPLE-RADIUS=100;X-TITLE=Downtown Rondout B
 usiness District:geo:41.9181579,-73.98303829999998
END:VEVENT
BEGIN:VTIMEZONE
TZID:America/New_York
X-LIC-LOCATION:America/New_York
BEGIN:DAYLIGHT
DTSTART:20260308T030000
TZOFFSETFROM:-0500
TZOFFSETTO:-0400
TZNAME:EDT
END:DAYLIGHT
END:VTIMEZONE
END:VCALENDAR