BEGIN:VCALENDAR
VERSION:2.0
PRODID:-//wp-events-plugin.com//7.2.3.1//EN
TZID:America/New_York
X-WR-TIMEZONE:America/New_York
BEGIN:VEVENT
UID:152352@kingstonhappenings.org
DTSTART;TZID=America/New_York:20251029T140000
DTEND;TZID=America/New_York:20251029T154500
DTSTAMP:20251029T115307Z
URL:https://kingstonhappenings.org/events/elanor-the-great-2/
SUMMARY:Elanor The Great
DESCRIPTION:After the death of her best friend and long-time roommate Bessi
 e (Rita Zohar)\, Eleanor (June Squibb) leaves her Florida home for New Yor
 k City\, where she moves in with her daughter Lisa (Jessica Hecht) and gra
 ndson Max (Will Price). During a visit to the Manhattan Jewish Community C
 enter\, Eleanor stumbles her way into a support group for Holocaust surviv
 ors and\, joining their circle\, begins to tell her own story. Except\, un
 beknownst to everyone listening\, it isn’t Eleanor’s story — it’s 
 Bessie’s.\n\nThe story snares the attention of journalism student Nina (
 Erin Kellyman)\, who wants to feature Eleanor in an article. Never one to 
 turn away attention\, Eleanor begins to forge a close bond with Nina. But 
 how long will it take before that bond is shattered by the truth? Written 
 by Tory Kamen\, Eleanor the Great takes on the weightiest of subjects with
  the lightest of touches. Compulsively chatty\, ultra-opinionated\, and la
 cking in boundaries\, Eleanor is a fascinating heroine and an absolute hoo
 t. Drawing upon her wide-ranging experience as an actor\, Director Scarlet
 t Johansson focuses her gaze on the intricacies of Squibb’s performance\
 , which exudes a complexity rarely afforded to elderly characters\, and ke
 eps us laughing\, even through the most uncomfortable of confrontations.
ATTACH;FMTTYPE=image/jpeg:https://kingstonhappenings.org/wp-content/upload
 s/2025/10/Elanor-The-Great-sm-1.jpg
CATEGORIES:@Featured,@Newsletter,Movies
LOCATION:Rosendale Theater\, 408 Main St\, Rosendale\, New York\, 12472\, U
 nited States
GEO:41.8441401;-74.0821133
X-APPLE-STRUCTURED-LOCATION;VALUE=URI;X-ADDRESS=408 Main St\, Rosendale\, N
 ew York\, 12472\, United States;X-APPLE-RADIUS=100;X-TITLE=Rosendale Theat
 er:geo:41.8441401,-74.0821133
END:VEVENT
BEGIN:VTIMEZONE
TZID:America/New_York
X-LIC-LOCATION:America/New_York
BEGIN:DAYLIGHT
DTSTART:20250309T030000
TZOFFSETFROM:-0500
TZOFFSETTO:-0400
TZNAME:EDT
END:DAYLIGHT
END:VTIMEZONE
END:VCALENDAR