BEGIN:VCALENDAR
VERSION:2.0
PRODID:-//wp-events-plugin.com//7.2.3.1//EN
TZID:America/New_York
X-WR-TIMEZONE:America/New_York
BEGIN:VEVENT
UID:151475@kingstonhappenings.org
DTSTART;TZID=America/New_York:20251005T130000
DTEND;TZID=America/New_York:20251005T150000
DTSTAMP:20250811T193347Z
URL:https://kingstonhappenings.org/events/echoes-of-the-catskills-local-po
 etry-reading/
SUMMARY:Echoes of the Catskills - Local Poetry Reading
DESCRIPTION:Join us Sunday\, October 5 from 1–3PM at Kenco Outfitters for
  an afternoon of poetry with local writers Guy Reed and Rich Parisio\, ins
 pired by the Catskills landscape and fall season. Free to attend\, open to
  all. Light refreshments will be served. RSVP requested KencoOutfitters.co
 m
ATTACH;FMTTYPE=image/jpeg:https://kingstonhappenings.org/wp-content/upload
 s/2025/08/a-local-poetry-reading-at-kenco-outfitters-1600-x-900-px.jpg
CATEGORIES:@Featured,Community,Nightlife and entertainment,Theater
LOCATION:Kenco The Work & Play Outfitter\, \, 
X-APPLE-STRUCTURED-LOCATION;VALUE=URI;X-ADDRESS=\, ;X-APPLE-RADIUS=100;X-TI
 TLE=Kenco The Work & Play Outfitter:geo:0,0
END:VEVENT
BEGIN:VTIMEZONE
TZID:America/New_York
X-LIC-LOCATION:America/New_York
BEGIN:DAYLIGHT
DTSTART:20250309T030000
TZOFFSETFROM:-0500
TZOFFSETTO:-0400
TZNAME:EDT
END:DAYLIGHT
END:VTIMEZONE
END:VCALENDAR