BEGIN:VCALENDAR
VERSION:2.0
PRODID:-//wp-events-plugin.com//7.2.3.1//EN
TZID:America/New_York
X-WR-TIMEZONE:America/New_York
BEGIN:VEVENT
UID:152398@kingstonhappenings.org
DTSTART;TZID=America/New_York:20251024T190000
DTEND;TZID=America/New_York:20251024T190000
DTSTAMP:20251020T162108Z
URL:https://kingstonhappenings.org/events/easy-money/
SUMMARY:Easy Money
DESCRIPTION:Easy Money has been playing around New York since the ’80s wi
 th different personnel but always included Bob Hellbent who writes most of
  the material with Joe Hernandez on bass and Mike Minervini on drums they 
 perform original material and covers you love within the Americana genre.
ATTACH;FMTTYPE=image/jpeg:https://kingstonhappenings.org/wp-content/upload
 s/2025/10/easy-money.jpeg
CATEGORIES:@Featured,@Newsletter,Music,Nightlife and entertainment
LOCATION:Keegan Ales\, 20 Saint James Street\, Kingston\, NY\, 12401\, Unit
 ed States
GEO:41.931504;-74.01187
X-APPLE-STRUCTURED-LOCATION;VALUE=URI;X-ADDRESS=20 Saint James Street\, Kin
 gston\, NY\, 12401\, United States;X-APPLE-RADIUS=100;X-TITLE=Keegan Ales:
 geo:41.931504,-74.01187
END:VEVENT
BEGIN:VTIMEZONE
TZID:America/New_York
X-LIC-LOCATION:America/New_York
BEGIN:DAYLIGHT
DTSTART:20250309T030000
TZOFFSETFROM:-0500
TZOFFSETTO:-0400
TZNAME:EDT
END:DAYLIGHT
END:VTIMEZONE
END:VCALENDAR