BEGIN:VCALENDAR
VERSION:2.0
PRODID:-//wp-events-plugin.com//7.2.3.1//EN
TZID:America/New_York
X-WR-TIMEZONE:America/New_York
BEGIN:VEVENT
UID:152816@kingstonhappenings.org
DTSTART;TZID=America/New_York:20251129T190000
DTEND;TZID=America/New_York:20251129T190000
DTSTAMP:20251124T151026Z
URL:https://kingstonhappenings.org/events/easy-money-with-edward-james-ban
 d-at-keegan-ales/
SUMMARY:Easy Money with Edward james Band at Keegan Ales
DESCRIPTION:The best way to forget about those political arguments during T
 hanksgiving dinner? Live music! Come see two bands for the price of one at
  Keegan Ales. November 29 at 7pm.
ATTACH;FMTTYPE=image/jpeg:https://kingstonhappenings.org/wp-content/upload
 s/2025/11/584761674_122155979690619953_3605373092150220573_n.jpg
CATEGORIES:@Featured,@Newsletter,Music,Nightlife and entertainment
LOCATION:Keegan Ales\, 20 Saint James Street\, Kingston\, NY\, 12401\, Unit
 ed States
GEO:41.931504;-74.01187
X-APPLE-STRUCTURED-LOCATION;VALUE=URI;X-ADDRESS=20 Saint James Street\, Kin
 gston\, NY\, 12401\, United States;X-APPLE-RADIUS=100;X-TITLE=Keegan Ales:
 geo:41.931504,-74.01187
END:VEVENT
BEGIN:VTIMEZONE
TZID:America/New_York
X-LIC-LOCATION:America/New_York
BEGIN:STANDARD
DTSTART:20251102T010000
TZOFFSETFROM:-0400
TZOFFSETTO:-0500
TZNAME:EST
END:STANDARD
END:VTIMEZONE
END:VCALENDAR