BEGIN:VCALENDAR
VERSION:2.0
PRODID:-//wp-events-plugin.com//7.2.3.1//EN
TZID:America/New_York
X-WR-TIMEZONE:America/New_York
BEGIN:VEVENT
UID:156074@kingstonhappenings.org
DTSTART;TZID=America/New_York:20260405T070000
DTEND;TZID=America/New_York:20260405T070000
DTSTAMP:20260406T124304Z
URL:https://kingstonhappenings.org/events/easter-sunrise-service-opus-40/
SUMMARY:Easter Sunrise Service @ Opus 40
DESCRIPTION:
ATTACH;FMTTYPE=image/jpeg:https://kingstonhappenings.org/wp-content/upload
 s/2026/03/650197911_1340873518080172_2549559900087904769_n.jpg
CATEGORIES:@Featured,@Newsletter,Community
LOCATION:Opus 40\, 50 Fite Road\, Saugerties\, New York\, United States
GEO:42.0527111;-74.02909690000001
X-APPLE-STRUCTURED-LOCATION;VALUE=URI;X-ADDRESS=50 Fite Road\, Saugerties\,
  New York\, United States;X-APPLE-RADIUS=100;X-TITLE=Opus 40:geo:42.052711
 1,-74.02909690000001
END:VEVENT
BEGIN:VTIMEZONE
TZID:America/New_York
X-LIC-LOCATION:America/New_York
BEGIN:DAYLIGHT
DTSTART:20260308T030000
TZOFFSETFROM:-0500
TZOFFSETTO:-0400
TZNAME:EDT
END:DAYLIGHT
END:VTIMEZONE
END:VCALENDAR