BEGIN:VCALENDAR
VERSION:2.0
PRODID:-//wp-events-plugin.com//7.2.3.1//EN
TZID:America/New_York
X-WR-TIMEZONE:America/New_York
BEGIN:VEVENT
UID:151618@kingstonhappenings.org
DTSTART;TZID=America/New_York:20251012T150000
DTEND;TZID=America/New_York:20251012T170000
DTSTAMP:20251007T130843Z
URL:https://kingstonhappenings.org/events/dzieci-theatres-makbet/
SUMMARY:Dzieci Theatre\\'s MAKBET
DESCRIPTION:Something Wicked this way comes: \nDzieci Theatre's\nMAKBET\nre
 turns to the Widow Jane Mine!\nSunday October 12\, 3pm\nYou haven’t seen
  Macbeth until you’ve seen it presented by Dzieci… an eye-popping-ear-
 poking confirmation that Shakespeare once again constructed something not 
 easily degraded. And you’re not likely to see anything like it ever agai
 n.\n\n-- David Finkle\, Huffington Post\nOn Sunday October 12th\, at 3pm\,
  a thrillingly unique ensemble meets an equally thrilling and unique venue
 . Enter the splendor of The Widow Jane Mine with Dzieci Theatre\, where th
 eir riotous clan from the “Old Country” will greet you with song\, dan
 ce\, and divination\, then lead you between the gargantuan stone pillars a
 nd around the subterranean pools\, in a riotous whirlwind of spine-tinglin
 g theatrical invention.\n\nWith feats of astonishing physicality and other
 worldly choral chanting\, Dzieci’s Makbet (their boldly visceral take on
  Macbeth)\, comes alive through the unflinching performance of a handful o
 f actors who take turns spontaneously trading off parts at the drop of a h
 at\, exploding the art of storytelling\, and creating a one-of-a-kind expe
 rience which audiences have said is\, “Absolutely liberating!”. \n\nM
 ore info and Tickets: https://widowjanemine.ticketspice.com/makbet2025
ATTACH;FMTTYPE=image/jpeg:https://kingstonhappenings.org/wp-content/upload
 s/2025/08/MAKBET-2025-1050-IG.jpg
CATEGORIES:@Featured,@Newsletter,Theater
LOCATION:The Snyder Estate\, 668 Route 213\, Rosendale\, New York\, United 
 States
GEO:41.840979;-74.097719
X-APPLE-STRUCTURED-LOCATION;VALUE=URI;X-ADDRESS=668 Route 213\, Rosendale\,
  New York\, United States;X-APPLE-RADIUS=100;X-TITLE=The Snyder Estate:geo
 :41.840979,-74.097719
END:VEVENT
BEGIN:VTIMEZONE
TZID:America/New_York
X-LIC-LOCATION:America/New_York
BEGIN:DAYLIGHT
DTSTART:20250309T030000
TZOFFSETFROM:-0500
TZOFFSETTO:-0400
TZNAME:EDT
END:DAYLIGHT
END:VTIMEZONE
END:VCALENDAR