BEGIN:VCALENDAR
VERSION:2.0
PRODID:-//wp-events-plugin.com//7.2.3.1//EN
TZID:America/New_York
X-WR-TIMEZONE:America/New_York
BEGIN:VEVENT
UID:151998@kingstonhappenings.org
DTSTART;TZID=America/New_York:20250924T190000
DTEND;TZID=America/New_York:20250924T190000
DTSTAMP:20250929T140608Z
URL:https://kingstonhappenings.org/events/dylan-doyle-band/
SUMMARY:Dylan Doyle Band
DESCRIPTION:Dylan Doyle\, with his gritty guitar playing\, poetic songwriti
 ng and powerful stage presence\, has been reaching a growing national and 
 international audience for almost a decade. Touring nationally since 15\, 
 Dylan has matured far beyond his 26 years\, creating his own style of musi
 c that weaves a tapestry between Funk\, R&amp\;B\, and Jazz.Through his mu
 sic and stage presence he effortlessly leads audiences on a unique journey
  full of emotion sure to make you want to laugh\, cry\, and get up and dan
 ce.\nWednesday\, September 24thDoors: 6pm/Show: 7 - 10pm$20 Suggested Dona
 tion
ATTACH;FMTTYPE=image/jpeg:https://kingstonhappenings.org/wp-content/upload
 s/2025/09/540498316_1415360197056205_6439208305595520672_n.jpg
CATEGORIES:@Featured,@Newsletter,Music,Nightlife and entertainment
LOCATION:Colony Woodstock NY\, 22 Rock City Rd\, Woodstock\, New York\, Uni
 ted States
GEO:42.0424924;-74.11799489999999
X-APPLE-STRUCTURED-LOCATION;VALUE=URI;X-ADDRESS=22 Rock City Rd\, Woodstock
 \, New York\, United States;X-APPLE-RADIUS=100;X-TITLE=Colony Woodstock NY
 :geo:42.0424924,-74.11799489999999
END:VEVENT
BEGIN:VTIMEZONE
TZID:America/New_York
X-LIC-LOCATION:America/New_York
BEGIN:DAYLIGHT
DTSTART:20250309T030000
TZOFFSETFROM:-0500
TZOFFSETTO:-0400
TZNAME:EDT
END:DAYLIGHT
END:VTIMEZONE
END:VCALENDAR