BEGIN:VCALENDAR
VERSION:2.0
PRODID:-//wp-events-plugin.com//7.2.3.1//EN
TZID:America/New_York
X-WR-TIMEZONE:America/New_York
BEGIN:VEVENT
UID:151617@kingstonhappenings.org
DTSTART;TZID=America/New_York:20251002T190000
DTEND;TZID=America/New_York:20251005T210000
DTSTAMP:20250828T011619Z
URL:https://kingstonhappenings.org/events/dracula/
SUMMARY:Dracula
DESCRIPTION:Theatre on the Road presents:\nDracula\nFollowing last year’s
  sold out run at The Widow Jane Mine\, DRACULA returns in October 2025 for
  four performances\, with new casting\, refreshed staging and all the thri
 ll\, drama &amp\; excitement you’ve come to expect form this classic\, g
 othic tale! Set amid the backdrop of 1920s England\, just outside of Londo
 n\, this is original Broadway script\, of the iconic Bram Stoker novel\, d
 ramatized by Hamilton Dean &amp\; John L. Balderston (1927). \n\nTickets 
 and more info: https://widowjanemine.ticketspice.com/Dracula25\n\nThere's 
 more about Theatre on the Road here.
ATTACH;FMTTYPE=image/jpeg:https://kingstonhappenings.org/wp-content/upload
 s/2025/08/Dracula-2025-IG.jpg
CATEGORIES:@Featured,Theater
LOCATION:The Snyder Estate\, 668 Route 213\, Rosendale\, New York\, United 
 States
GEO:41.840979;-74.097719
X-APPLE-STRUCTURED-LOCATION;VALUE=URI;X-ADDRESS=668 Route 213\, Rosendale\,
  New York\, United States;X-APPLE-RADIUS=100;X-TITLE=The Snyder Estate:geo
 :41.840979,-74.097719
END:VEVENT
BEGIN:VTIMEZONE
TZID:America/New_York
X-LIC-LOCATION:America/New_York
BEGIN:DAYLIGHT
DTSTART:20250309T030000
TZOFFSETFROM:-0500
TZOFFSETTO:-0400
TZNAME:EDT
END:DAYLIGHT
END:VTIMEZONE
END:VCALENDAR