BEGIN:VCALENDAR
VERSION:2.0
PRODID:-//wp-events-plugin.com//7.2.3.1//EN
TZID:America/New_York
X-WR-TIMEZONE:America/New_York
BEGIN:VEVENT
UID:151580@kingstonhappenings.org
DTSTART;TZID=America/New_York:20250907T140000
DTEND;TZID=America/New_York:20250907T150000
DTSTAMP:20250901T145155Z
URL:https://kingstonhappenings.org/events/door-restoration-celebration-mez
 uzah-reaffixing/
SUMMARY:Door Restoration Celebration &amp\; Mezuzah Reaffixing
DESCRIPTION:Join us in the Reher Center Courtyard on Spring Street for a sp
 ecial dedication of our newly refurbished Spring Street door and reaffixin
 g of the Reher family mezuzah. Stick around to mingle and enjoy our galler
 y exhibition\, Boundless Creativity: Immigrant Artists in the Hudson Valle
 y
ATTACH;FMTTYPE=image/jpeg:https://kingstonhappenings.org/wp-content/upload
 s/2025/08/upcoming-events-square-1.png
CATEGORIES:@Featured,@Newsletter,Community,History,Museum and historic
 site hours
LOCATION:Reher Center for Immigrant Culture and History\, 99-101 Broadway\,
  Kingston\, NY\, 12401\, United States
GEO:41.920121;-73.986003
X-APPLE-STRUCTURED-LOCATION;VALUE=URI;X-ADDRESS=99-101 Broadway\, Kingston\
 , NY\, 12401\, United States;X-APPLE-RADIUS=100;X-TITLE=Reher Center for I
 mmigrant Culture and History:geo:41.920121,-73.986003
END:VEVENT
BEGIN:VTIMEZONE
TZID:America/New_York
X-LIC-LOCATION:America/New_York
BEGIN:DAYLIGHT
DTSTART:20250309T030000
TZOFFSETFROM:-0500
TZOFFSETTO:-0400
TZNAME:EDT
END:DAYLIGHT
END:VTIMEZONE
END:VCALENDAR