BEGIN:VCALENDAR
VERSION:2.0
PRODID:-//wp-events-plugin.com//7.2.3.1//EN
TZID:America/New_York
X-WR-TIMEZONE:America/New_York
BEGIN:VEVENT
UID:152813@kingstonhappenings.org
DTSTART;TZID=America/New_York:20251126T223000
DTEND;TZID=America/New_York:20251126T223000
DTSTAMP:20251124T145948Z
URL:https://kingstonhappenings.org/events/dj-diamond-dave-k/
SUMMARY:DJ DIAMOND DAVE K
DESCRIPTION:Get ready to dance the night away with DJ DIAMOND DAVE K from W
 KZE spinning the hottest tracks on Thanksgiving Eve - It's going to be lit
 !\nWednesday November 26thDoors:10pm/Show:10:30pmFree Admission\nDance Par
 ty will follow a performance from one of the area's leading Grateful Dead 
 tribute bands The Deadbeats!Doors: 6pm/Show: 7pmhttps://www.eventbrite.com
 /e/1871394574549?aff=oddtdtcreator
ATTACH;FMTTYPE=image/jpeg:https://kingstonhappenings.org/wp-content/upload
 s/2025/11/588364859_1494133295845561_5018205122845785943_n.jpg
CATEGORIES:@Featured,@Newsletter,Music,Nightlife and entertainment
LOCATION:Colony Woodstock NY\, 22 Rock City Rd\, Woodstock\, New York\, Uni
 ted States
GEO:42.0424924;-74.11799489999999
X-APPLE-STRUCTURED-LOCATION;VALUE=URI;X-ADDRESS=22 Rock City Rd\, Woodstock
 \, New York\, United States;X-APPLE-RADIUS=100;X-TITLE=Colony Woodstock NY
 :geo:42.0424924,-74.11799489999999
END:VEVENT
BEGIN:VTIMEZONE
TZID:America/New_York
X-LIC-LOCATION:America/New_York
BEGIN:STANDARD
DTSTART:20251102T010000
TZOFFSETFROM:-0400
TZOFFSETTO:-0500
TZNAME:EST
END:STANDARD
END:VTIMEZONE
END:VCALENDAR