BEGIN:VCALENDAR
VERSION:2.0
PRODID:-//wp-events-plugin.com//7.2.3.1//EN
TZID:America/New_York
X-WR-TIMEZONE:America/New_York
BEGIN:VEVENT
UID:153241@kingstonhappenings.org
DTSTART;TZID=America/New_York:20251231T180000
DTEND;TZID=America/New_York:20251231T180000
DTSTAMP:20251229T165019Z
URL:https://kingstonhappenings.org/events/diso-nye-hudson-house-distillery
 -w-jungle-love/
SUMMARY:Diso NYE @ Hudson House Distillery w/Jungle Love
DESCRIPTION:General Admissions Tickets $170.00DINNER SEATINGS 7:30PM OP 8:3
 0PMExpect tickets to increase after sell out.Ticket Includes:4 Course Dinn
 erOpen barChampagne ToastBall Drop Live StreamParty FavorsMidnight Snacks
ATTACH;FMTTYPE=image/jpeg:https://kingstonhappenings.org/wp-content/upload
 s/2025/12/575085566_1567261521378111_945286198639338475_n.jpg
CATEGORIES:@Featured,@Newsletter,Festivals and major community
 events,Music,Nightlife and entertainment
LOCATION:HUDSON HOUSE DISTILLERY\, 1835 Route 9w\, West Park\, NY\, United 
 States
GEO:41.784639;-73.958819
X-APPLE-STRUCTURED-LOCATION;VALUE=URI;X-ADDRESS=1835 Route 9w\, West Park\,
  NY\, United States;X-APPLE-RADIUS=100;X-TITLE=HUDSON HOUSE DISTILLERY:geo
 :41.784639,-73.958819
END:VEVENT
BEGIN:VTIMEZONE
TZID:America/New_York
X-LIC-LOCATION:America/New_York
BEGIN:STANDARD
DTSTART:20251102T010000
TZOFFSETFROM:-0400
TZOFFSETTO:-0500
TZNAME:EST
END:STANDARD
END:VTIMEZONE
END:VCALENDAR