BEGIN:VCALENDAR
VERSION:2.0
PRODID:-//wp-events-plugin.com//7.2.3.1//EN
TZID:America/New_York
X-WR-TIMEZONE:America/New_York
BEGIN:VEVENT
UID:152153@kingstonhappenings.org
DTSTART;TZID=America/New_York:20251010T140000
DTEND;TZID=America/New_York:20251010T190000
DTSTAMP:20251007T130835Z
URL:https://kingstonhappenings.org/events/dinosaurs-and-i-heart-cookies/
SUMMARY:Dinosaurs and I Heart Cookies
DESCRIPTION:              \, !!!\n \,    \,  - '             !!!\nMassive a
 nimatronic dinosaurs will join the Most Popular Food Truck in America with
  Deep Dish Cookies for a    at       from :  :!!\nYou don't want to miss t
 his incredible event!\n     \n2 Massive T-RexGigantic TriceratopsRaptor 
 Attack (brand new)"Blue" RaptorOrange RaptorMighty StegosaurusSpinosaurus1
  DimorphodontiaAlosaurous10ft T-Rex2 Baby TriceratopsBaby StygimolochBaby 
 Alosaurous2 Baby Raptors\nWe also feature our Raptor Enclosure and dinos f
 or kids to sit\, play and take pictures on as well as a fossil dig pit!\n
    &amp\;  !!!\n        &amp\;    :\n-  by selecting 'GOING' on this even
 t\n-   friends by  below (most important)We will be doing several giveaway
 s leading up to the event. The more  we get the more cookies we can give a
 way so please help us by  this event!\n Winners will be announced on our 
 Facebook page the day of the event.\n:          .    $      $**We do not h
 ave an age exception\, a cookie purchase is required for each person atten
 ding.\n    &amp\;      '          !!
ATTACH;FMTTYPE=image/jpeg:https://kingstonhappenings.org/wp-content/upload
 s/2025/10/555088825_122164443362762275_839904380189405268_n.jpg
CATEGORIES:@Featured,@Newsletter,Community,For kids
LOCATION:Kingston\, NY\, 1 FakeStreetNameSoCheckDetail\, Kingston\, NY\, 12
 401\, United States
GEO:41.9270367;-73.99736080000002
X-APPLE-STRUCTURED-LOCATION;VALUE=URI;X-ADDRESS=1 FakeStreetNameSoCheckDeta
 il\, Kingston\, NY\, 12401\, United States;X-APPLE-RADIUS=100;X-TITLE=King
 ston\, NY:geo:41.9270367,-73.99736080000002
END:VEVENT
BEGIN:VTIMEZONE
TZID:America/New_York
X-LIC-LOCATION:America/New_York
BEGIN:DAYLIGHT
DTSTART:20250309T030000
TZOFFSETFROM:-0500
TZOFFSETTO:-0400
TZNAME:EDT
END:DAYLIGHT
END:VTIMEZONE
END:VCALENDAR