BEGIN:VCALENDAR
VERSION:2.0
PRODID:-//wp-events-plugin.com//7.2.3.1//EN
TZID:America/New_York
X-WR-TIMEZONE:America/New_York
BEGIN:VEVENT
UID:156076@kingstonhappenings.org
DTSTART;TZID=America/New_York:20260425T093000
DTEND;TZID=America/New_York:20260425T160000
DTSTAMP:20260402T122655Z
URL:https://kingstonhappenings.org/events/defensive-driving-course/
SUMMARY:Defensive Driving course
DESCRIPTION:\n\n\n\nWhy should you take this course? You can save 10% on yo
 ur vehicle liability\, collision\, and personal injury protection (PIP) in
 surance premiums for THREE YEARS! You may be able to reduce up to FOUR POI
 NTS on your driving record.\n\n\n\n\nTaught by a certified instructor with
  American Safety\, Inc. #028\, approved NYS DMV PIRP sponsor.\n\n\n\n\nThi
 s course costs $40 to be paid on the day of instruction\, cash or check on
 ly.\n\nSpace is limited\, please register through the library's calendar\,
  townofulsterlibrary.org or speak with a staff member\, 845-338-7881.\n\n\
 n\n\n\n\n
ATTACH;FMTTYPE=image/jpeg:https://kingstonhappenings.org/wp-content/upload
 s/2026/03/IG-Defensive-Driving-1-1.png
CATEGORIES:@Featured,Community,Educational classes and lectures
LOCATION:Town of Ulster Library\, 860 Ulster Ave.\, Kingston\, New York\, 1
 2401\, United States
GEO:41.9546291;-73.99388220000003
X-APPLE-STRUCTURED-LOCATION;VALUE=URI;X-ADDRESS=860 Ulster Ave.\, Kingston\
 , New York\, 12401\, United States;X-APPLE-RADIUS=100;X-TITLE=Town of Ulst
 er Library:geo:41.9546291,-73.99388220000003
END:VEVENT
BEGIN:VTIMEZONE
TZID:America/New_York
X-LIC-LOCATION:America/New_York
BEGIN:DAYLIGHT
DTSTART:20260308T030000
TZOFFSETFROM:-0500
TZOFFSETTO:-0400
TZNAME:EDT
END:DAYLIGHT
END:VTIMEZONE
END:VCALENDAR