BEGIN:VCALENDAR
VERSION:2.0
PRODID:-//wp-events-plugin.com//7.2.3.1//EN
TZID:America/New_York
X-WR-TIMEZONE:America/New_York
BEGIN:VEVENT
UID:155824@kingstonhappenings.org
DTSTART;TZID=America/New_York:20260315T140000
DTEND;TZID=America/New_York:20260315T140000
DTSTAMP:20260309T171723Z
URL:https://kingstonhappenings.org/events/death-cafe/
SUMMARY:Death Café
DESCRIPTION:Join us for a Death Café — a welcoming\, respectful space wh
 ere people can come together to openly discuss thoughts\, feelings\, and e
 xperiences related to dying and death. Through guided yet informal convers
 ation\, participants are encouraged to reflect\, share\, and listen in a s
 upportive environment.\nThese conversations help foster greater awareness 
 and acceptance of death as a natural part of life\, promoting a culture th
 at approaches end-of-life topics with mindfulness\, curiosity\, and compas
 sion. There is no agenda\, presentation\, or pressure to speak — simply 
 an opportunity for meaningful dialogue.\nAll perspectives are welcome\, li
 ght refreshments will be served.Sign up here: https://hurleylibrary.libca
 l.com/event/16387656
ATTACH;FMTTYPE=image/jpeg:https://kingstonhappenings.org/wp-content/upload
 s/2026/03/644278375_1347735140714704_1415944541649301262_n.jpg
CATEGORIES:@Featured,@Newsletter,Community
LOCATION:Hurley Library\, 48 Main St\, Hurley\, New York\, United States
GEO:41.9253483;-74.06352420000002
X-APPLE-STRUCTURED-LOCATION;VALUE=URI;X-ADDRESS=48 Main St\, Hurley\, New Y
 ork\, United States;X-APPLE-RADIUS=100;X-TITLE=Hurley Library:geo:41.92534
 83,-74.06352420000002
END:VEVENT
BEGIN:VTIMEZONE
TZID:America/New_York
X-LIC-LOCATION:America/New_York
BEGIN:DAYLIGHT
DTSTART:20260308T030000
TZOFFSETFROM:-0500
TZOFFSETTO:-0400
TZNAME:EDT
END:DAYLIGHT
END:VTIMEZONE
END:VCALENDAR