BEGIN:VCALENDAR
VERSION:2.0
PRODID:-//wp-events-plugin.com//7.2.3.1//EN
TZID:America/New_York
X-WR-TIMEZONE:America/New_York
BEGIN:VEVENT
UID:155822@kingstonhappenings.org
DTSTART;TZID=America/New_York:20260314T190000
DTEND;TZID=America/New_York:20260314T190000
DTSTAMP:20260309T171244Z
URL:https://kingstonhappenings.org/events/dean-friedman-w-special-guest-va
 nce-gilbert/
SUMMARY:Dean Friedman w/ special guest Vance Gilbert
DESCRIPTION:Enjoy an evening with these two celebrated singer-songwriters.\
 n\n\nDean Friedman\nHailed by critics and fans alike as a one of the fines
 t songwriters of his generation\, Dean Friedman has achieved legendary\, p
 op-icon status for chart-topping hits\, Ariel\, Lucky Stars\, Lydia\, McDo
 nald’s Girl and more. Friedman returns to the stage armed with a stunnin
 g collection of his insightful and compelling\, true-to-life ‘story song
 s’ - songs of pathos and humor that deal with family\, friends\, neighbo
 rs\, work and the seemingly trivial\, yet ultimately essential stuff of ev
 eryday life. A consummate entertainer\, Friedman will be performing solo\,
  on guitar and keyboard\, featuring songs from throughout his four-decade 
 career\, including familiar\, radio hits and fan favorites\, drawn from hi
 s nine studio albums. Invite family and friends and join Friedman for an e
 vening of powerful\, poignant and hilarious songs about the ordinary and e
 xtraordinary lives we share.\n\n\nhttps://www.deanfriedman.com/\n\n\nPLUS 
 Special Guest...\nVance Gilbert\nIf Joni Mitchell and Richie Havens had a 
 love child\, with Rodney Dangerfield as the midwife\, the results might be
  something close to the great Vance Gilbert”\, says Richmond Magazine. V
 ance Gilbert burst onto the singer/songwriter scene in the early 90’s wh
 en buzz started spreading in the folk clubs of Boston about an ex-multi cu
 ltural arts teacher who was knocking ’em dead at open mics. Born and rai
 sed in the Philadelphia area\, Vance started out hoping to be a jazz singe
 r and then discovered his affinity for the storytelling sensibilities of a
 coustic folk music. Once word got out about Gilbert’s stage-owning singi
 ng and playing\, Shawn Colvin invited him to be special guest on her Fat C
 ity Tour. Most recently he’s the opener of choice for Paul Reiser and Th
 e Subdudes. Considered by many to be an integral part of the national folk
  scene\, Gilbert’s approach to the acoustic singer songwriter idiom is s
 ignificant. Gilbert’s compositions\, while frequently employing sophisti
 cated melodies and harmonies that attest to his jazz roots\, remain sublim
 e attestations to the storyteller’s craft. He even has a tune on a Gramm
 y Nominated children’s album.\n\nhttps://vancegilbert.com/
ATTACH;FMTTYPE=image/jpeg:https://kingstonhappenings.org/wp-content/upload
 s/2026/03/630732298_1557393066186250_4710851953512678179_n.jpg
CATEGORIES:@Featured,@Newsletter,Music,Nightlife and entertainment
LOCATION:Colony Woodstock NY\, 22 Rock City Rd\, Woodstock\, New York\, Uni
 ted States
GEO:42.0424924;-74.11799489999999
X-APPLE-STRUCTURED-LOCATION;VALUE=URI;X-ADDRESS=22 Rock City Rd\, Woodstock
 \, New York\, United States;X-APPLE-RADIUS=100;X-TITLE=Colony Woodstock NY
 :geo:42.0424924,-74.11799489999999
END:VEVENT
BEGIN:VTIMEZONE
TZID:America/New_York
X-LIC-LOCATION:America/New_York
BEGIN:DAYLIGHT
DTSTART:20260308T030000
TZOFFSETFROM:-0500
TZOFFSETTO:-0400
TZNAME:EDT
END:DAYLIGHT
END:VTIMEZONE
END:VCALENDAR