BEGIN:VCALENDAR
VERSION:2.0
PRODID:-//wp-events-plugin.com//7.2.3.1//EN
TZID:America/New_York
X-WR-TIMEZONE:America/New_York
BEGIN:VEVENT
UID:153321@kingstonhappenings.org
DTSTART;TZID=America/New_York:20251231T200000
DTEND;TZID=America/New_York:20251231T200000
DTSTAMP:20260105T125245Z
URL:https://kingstonhappenings.org/events/deadgrass-new-years-eve-party-th
 e-falcon/
SUMMARY:Deadgrass | New Year's Eve Party @ The Falcon
DESCRIPTION:With opening act: The Dangit Bobbys\nC Lanzbom and Matt Turk ha
 ve joined forces to form Deadgrass\, a string band jamgrass adventure thro
 ugh Jerry Garcia’s musical world. Bassist Sam Weber\, banjo player Kris 
 Bauman and fiddler Kensuke Shoji complete this fine group of seasoned pros
  exploring the life works of Jerry Garcia on the instruments that first in
 spired him. Deadgrass celebrates and interprets the music of Jerry Garcia\
 , drawing from Old &amp\; in the Way\, JGB\, Jerry’s Jug Band days and G
 rateful Dead.
ATTACH;FMTTYPE=image/jpeg:https://kingstonhappenings.org/wp-content/upload
 s/2025/12/589582688_1401204515341889_3448287153989982922_n-1.jpg
CATEGORIES:@Featured,@Newsletter,Festivals and major community
 events,Music,Nightlife and entertainment
LOCATION:The Falcon\, 1348 Route 9W\, Marlboro\, NY\, United States
GEO:41.6061213;-73.97065420000001
X-APPLE-STRUCTURED-LOCATION;VALUE=URI;X-ADDRESS=1348 Route 9W\, Marlboro\, 
 NY\, United States;X-APPLE-RADIUS=100;X-TITLE=The Falcon:geo:41.6061213,-7
 3.97065420000001
END:VEVENT
BEGIN:VTIMEZONE
TZID:America/New_York
X-LIC-LOCATION:America/New_York
BEGIN:STANDARD
DTSTART:20251102T010000
TZOFFSETFROM:-0400
TZOFFSETTO:-0500
TZNAME:EST
END:STANDARD
END:VTIMEZONE
END:VCALENDAR