BEGIN:VCALENDAR
VERSION:2.0
PRODID:-//wp-events-plugin.com//7.2.3.1//EN
TZID:America/New_York
X-WR-TIMEZONE:America/New_York
BEGIN:VEVENT
UID:152202@kingstonhappenings.org
DTSTART;TZID=America/New_York:20251011T193000
DTEND;TZID=America/New_York:20251011T210000
DTSTAMP:20251007T130841Z
URL:https://kingstonhappenings.org/events/dead/
SUMMARY:D(e)AD
DESCRIPTION:Tillie (Isabella Roland)\, a floundering young woman and her ch
 arismatic\, alcoholic father (Craig Bierko)\, struggle to resolve their fr
 actured relationship in the weirdest possible way: after he dies\, his gho
 st appears in mirrors to haunt everyone in the family but Tillie. Tillie
 ’s sister\, Violet (Vic Michaelis)\, mother (Claudia Lonow)\, grandparen
 ts (Mark Lonow and Joanne Astrow)\, stepfather (Jonathan Schmock)\, and ev
 en Violet’s free-spirited baby daddy (Nick Marini)\, must do everything 
 they can to make Tillie see her father… even employing a very reform rab
 bi (Eddie Peppitone) to exorcize him… or else they will be plagued by th
 is ghost forever.\n\nAbout the film:\nWhat do you get when you have three 
 generations of comedians in one family\, and someone dies? If you guessed 
 an independent autobiographical self-funded feature-length dark comedy\, y
 ou’d be absolutely right. D(e)AD is written by and starring Isabella Rol
 and (Dropout.tv\, Sex Lives Of College Girls)\; and directed by and starri
 ng Isabella’s mom\, Claudia Lonow (creator/showrunner of How to Live Wit
 h Your Parents for the Rest of Your Life\, Accidentally on Purpose\, Good 
 Girls Don’t and Rude Awakening)\; and also the rest of their family.
ATTACH;FMTTYPE=image/jpeg:https://kingstonhappenings.org/wp-content/upload
 s/2025/10/Dead-sm.png
CATEGORIES:@Featured,@Newsletter,Movies
LOCATION:Rosendale Theater\, 408 Main St\, Rosendale\, New York\, 12472\, U
 nited States
GEO:41.8441401;-74.0821133
X-APPLE-STRUCTURED-LOCATION;VALUE=URI;X-ADDRESS=408 Main St\, Rosendale\, N
 ew York\, 12472\, United States;X-APPLE-RADIUS=100;X-TITLE=Rosendale Theat
 er:geo:41.8441401,-74.0821133
END:VEVENT
BEGIN:VTIMEZONE
TZID:America/New_York
X-LIC-LOCATION:America/New_York
BEGIN:DAYLIGHT
DTSTART:20250309T030000
TZOFFSETFROM:-0500
TZOFFSETTO:-0400
TZNAME:EDT
END:DAYLIGHT
END:VTIMEZONE
END:VCALENDAR