BEGIN:VCALENDAR
VERSION:2.0
PRODID:-//wp-events-plugin.com//7.2.3.1//EN
TZID:America/New_York
X-WR-TIMEZONE:America/New_York
BEGIN:VEVENT
UID:155802@kingstonhappenings.org
DTSTART;TZID=America/New_York:20260314T180000
DTEND;TZID=America/New_York:20260314T180000
DTSTAMP:20260309T130615Z
URL:https://kingstonhappenings.org/events/dead-operator-with-lousy-birthda
 y-the-fuze/
SUMMARY:Dead Operator with Lousy Birthday & The Fuze
DESCRIPTION:We are excited to welcome Dead Operator\, Lousy Birthday &amp\;
  The Fuze to Keegan Ales!\nCome through and bang your head! Check them all
  out here:\nLousy Birthday\n\nThe Fuze\n\nDead Operator
ATTACH;FMTTYPE=image/jpeg:https://kingstonhappenings.org/wp-content/upload
 s/2026/03/490961803_122161011962452264_5911300503255177362_n.jpg
CATEGORIES:@Featured,@Newsletter,Music,Nightlife and entertainment
LOCATION:Keegan Ales\, 20 Saint James Street\, Kingston\, NY\, 12401\, Unit
 ed States
GEO:41.931504;-74.01187
X-APPLE-STRUCTURED-LOCATION;VALUE=URI;X-ADDRESS=20 Saint James Street\, Kin
 gston\, NY\, 12401\, United States;X-APPLE-RADIUS=100;X-TITLE=Keegan Ales:
 geo:41.931504,-74.01187
END:VEVENT
BEGIN:VTIMEZONE
TZID:America/New_York
X-LIC-LOCATION:America/New_York
BEGIN:DAYLIGHT
DTSTART:20260308T030000
TZOFFSETFROM:-0500
TZOFFSETTO:-0400
TZNAME:EDT
END:DAYLIGHT
END:VTIMEZONE
END:VCALENDAR