BEGIN:VCALENDAR
VERSION:2.0
PRODID:-//wp-events-plugin.com//7.2.3.1//EN
TZID:America/New_York
X-WR-TIMEZONE:America/New_York
BEGIN:VEVENT
UID:155806@kingstonhappenings.org
DTSTART;TZID=America/New_York:20260313T190000
DTEND;TZID=America/New_York:20260313T190000
DTSTAMP:20260309T132422Z
URL:https://kingstonhappenings.org/events/dead-mans-waltz/
SUMMARY:Dead Man's Waltz
DESCRIPTION:Interweaving the classic songs and jams of The Grateful Dead\, 
 The Allman Brothers Band and The Band\, Dead Man's Waltz is an all-star co
 llective from the Northeast festival scene. Dead Man's Waltz features top-
 notch musicianship and offers a refreshing twist to the music of three leg
 endary and iconic bands. While staying true to the spirit of the music\, t
 he band members put their own dynamic spin on a vast catalog of beloved so
 ngs that are now part of the new American song book.\n\n\nAt its core\, DM
 W is a celebration of the long standing tradition of crossover between The
  Dead\, The Allmans and The Band\, culminating with the legendary 1973 Sum
 mer Jam Music Festival in Watkin's Glenn\, NY where the three bands perfor
 med together. DMW's arrangements are experiments\, as they easily flow fro
 m the familiar to the obscure\, moving from standards like "Jessica" into 
 "Going Down The Road Feeling Bad" into "Don't Do It" or "Up On Cripple Cre
 ek" into "They Love Each Other" into "Midnight Rider". The band always kee
 ps it fresh with new and unexpected arrangements and improvisations\, whil
 e engaging fans in the free-spirited party and colorful\, close-knit commu
 nity surrounding their shows.\n\n\nWith 2 drummers\, DMW's line-up mirrors
  those of both The Dead and The Allmans as well as later line-ups of The B
 and. Dead Man's Waltz features the all-star lineup of "Rev" Tor Krautter o
 n guitar and vocals\, Tom Major on drums\, Parker McQueeney on keys and vo
 cals\, Tom Doherty on guitar and vocals\, Jeff Prescott on drums and vocal
 s\, and Brian O'Connell on bass and vocals. Each hail from a unique musica
 l background and adds their own personal style\, influence and character t
 o the mix (which is exactly what the music calls for).\n\n\nhttps://stealy
 ourpeach.com/
ATTACH;FMTTYPE=image/jpeg:https://kingstonhappenings.org/wp-content/upload
 s/2026/03/605633475_1521927039732853_5105262641298327755_n.jpg
CATEGORIES:@Featured,@Newsletter,Music,Nightlife and entertainment
LOCATION:Colony Woodstock NY\, 22 Rock City Rd\, Woodstock\, New York\, Uni
 ted States
GEO:42.0424924;-74.11799489999999
X-APPLE-STRUCTURED-LOCATION;VALUE=URI;X-ADDRESS=22 Rock City Rd\, Woodstock
 \, New York\, United States;X-APPLE-RADIUS=100;X-TITLE=Colony Woodstock NY
 :geo:42.0424924,-74.11799489999999
END:VEVENT
BEGIN:VTIMEZONE
TZID:America/New_York
X-LIC-LOCATION:America/New_York
BEGIN:DAYLIGHT
DTSTART:20260308T030000
TZOFFSETFROM:-0500
TZOFFSETTO:-0400
TZNAME:EDT
END:DAYLIGHT
END:VTIMEZONE
END:VCALENDAR