BEGIN:VCALENDAR
VERSION:2.0
PRODID:-//wp-events-plugin.com//7.2.3.1//EN
TZID:America/New_York
X-WR-TIMEZONE:America/New_York
BEGIN:VEVENT
UID:152452@kingstonhappenings.org
DTSTART;TZID=America/New_York:20251029T190000
DTEND;TZID=America/New_York:20251029T230000
DTSTAMP:20251029T115309Z
URL:https://kingstonhappenings.org/events/dead-last-wednesday-halloween-ba
 ll-costume-contest-featuring-gratefully-yours-2/
SUMMARY:'Dead Last Wednesday' Halloween Ball & Costume Contest Featuring: G
 ratefully Yours!
DESCRIPTION:Come one\, come all\, to the Colony Halloween Costume Ball!\nPr
 izes include tickets to upcoming Shows\, T Shirts\, and other Gratefully Y
 ours &amp\; Colony Merch!\nWinners will be announced at set break (approx 
 8:30pm)!\nGratefully Yours has emerged as one of the premier Grateful Dead
  cover bands in the Northeast. Based out of the Hudson Valley in NY\, the 
 band is comprised of an all-star lineup of long-time jam band musicians fr
 om the area. Their willingness and ability to improvise and their openness
  to spontaneity and the energy of the moment lie at the core of their perf
 ormances and truly sets them apart.\nIt is about creating that Grateful De
 ad “magic” that Gratefully Yours truly aims to pay tribute to.Featurin
 g - Alex Mazur (keyboard\, vocals) Robert Schiff (rhythm guitar\, vocals) 
 Jude DeFalco (drums)\, Bill Bonacci (guitar\, vocals) &amp\; Steve Chun (b
 ass)\nYou can check them out at http://gratefullyyours.net\nWednesday\, O
 ctober 29thDoors:6pm / Show:7pm$20 Suggested Donation
ATTACH;FMTTYPE=image/jpeg:https://kingstonhappenings.org/wp-content/upload
 s/2025/10/558047221_1451929983399226_5115394348962229483_n-1.jpg
CATEGORIES:@Featured,@Newsletter,Music,Nightlife and entertainment
LOCATION:Colony Woodstock NY\, 22 Rock City Rd\, Woodstock\, New York\, Uni
 ted States
GEO:42.0424924;-74.11799489999999
X-APPLE-STRUCTURED-LOCATION;VALUE=URI;X-ADDRESS=22 Rock City Rd\, Woodstock
 \, New York\, United States;X-APPLE-RADIUS=100;X-TITLE=Colony Woodstock NY
 :geo:42.0424924,-74.11799489999999
END:VEVENT
BEGIN:VTIMEZONE
TZID:America/New_York
X-LIC-LOCATION:America/New_York
BEGIN:DAYLIGHT
DTSTART:20250309T030000
TZOFFSETFROM:-0500
TZOFFSETTO:-0400
TZNAME:EDT
END:DAYLIGHT
END:VTIMEZONE
END:VCALENDAR