BEGIN:VCALENDAR
VERSION:2.0
PRODID:-//wp-events-plugin.com//7.2.3.1//EN
TZID:America/New_York
X-WR-TIMEZONE:America/New_York
BEGIN:VEVENT
UID:156028@kingstonhappenings.org
DTSTART;TZID=America/New_York:20260411T150000
DTEND;TZID=America/New_York:20260412T220000
DTSTAMP:20260406T230102Z
URL:https://kingstonhappenings.org/events/dcxpc-live-presents-rally-in-the
 -valley/
SUMMARY:DCxPC Live Presents: Rally In The Valley
DESCRIPTION:DCxPC Live is bringing the second annual two day punk fest Rall
 y In The Valley back to the Hudson Valley dive bar Snapper Magees with pun
 k rock bands from around the East Coast. $10 per day\, Kingston NY April 1
 1th &amp\; 12th\n\nDCxPCLive.com
ATTACH;FMTTYPE=image/jpeg:https://kingstonhappenings.org/wp-content/upload
 s/2026/03/inbound7691091897534892914.png
CATEGORIES:@Featured,@Newsletter,Community,Music,Nightlife and
 entertainment
LOCATION:Snapper Magee's\, 59 N. Front St.\, Kingston\, New York\, 12401\, 
 United States
GEO:41.9352932;-74.02125000000001
X-APPLE-STRUCTURED-LOCATION;VALUE=URI;X-ADDRESS=59 N. Front St.\, Kingston\
 , New York\, 12401\, United States;X-APPLE-RADIUS=100;X-TITLE=Snapper Mage
 e's:geo:41.9352932,-74.02125000000001
END:VEVENT
BEGIN:VTIMEZONE
TZID:America/New_York
X-LIC-LOCATION:America/New_York
BEGIN:DAYLIGHT
DTSTART:20260308T030000
TZOFFSETFROM:-0500
TZOFFSETTO:-0400
TZNAME:EDT
END:DAYLIGHT
END:VTIMEZONE
END:VCALENDAR