BEGIN:VCALENDAR
VERSION:2.0
PRODID:-//wp-events-plugin.com//7.2.3.1//EN
TZID:America/New_York
X-WR-TIMEZONE:America/New_York
BEGIN:VEVENT
UID:155871@kingstonhappenings.org
DTSTART;TZID=America/New_York:20260514T190000
DTEND;TZID=America/New_York:20260514T220000
DTSTAMP:20260316T200500Z
URL:https://kingstonhappenings.org/events/dcxpc-live-presents-cellmate-chr
 isty-costello-modern-natives/
SUMMARY:DCxPC Live presents: Cellmate / Christy Costello / Modern Natives
DESCRIPTION:DCxPC Live presents Christy Costello live at Unicorn Bar in Kin
 gston on Thursday\, May 14.\n\nChristy Costello is a songwriter whose musi
 c blends indie folk\, punk spirit\, and deeply personal storytelling. Know
 n for powerful vocals and emotionally direct songs\, her performances move
  effortlessly between intimate and explosive\, pulling audiences into ever
 y lyric. Catch her in the Hudson Valley as part of her upcoming tour.\n\nJ
 oining the bill are two incredible local acts. Modern Natives bring their 
 road-tested\, genre-blending sound shaped by years of touring across North
  America\, while Kingston’s Cellmate mixes garage rock energy\, electron
 ic textures\, and punk ethos into something uniquely their own.\n\n&#x1f4c
 d\; Unicorn Bar – Kingston\, NY\n&#x1f4c5\; Thursday\, May 14\n&#x1f6aa\
 ; Doors 7PM / Music 8PM\n&#x1f39f\; $10 advance / $15 at the door\nALL AGE
 S\n\n--\nModern Natives\nThey’ve toured cross-country from Alaska to Flo
 rida and across Canada multiple times—living out of an old camper with t
 heir three cats and dog along for the ride. Now nestled full-time in New Y
 ork’s Hudson Valley\, Modern Natives brings that wild\, road-worn spirit
  to every stage. Known for their genre-blending sound and unforgettable li
 ve performances\, Modern Natives is a must-see act wherever they land.\n\n
 Christy Costello is a mover and a shaker in the Twin Cities Music Scene. 
 She's a songwriter\, multi-instrumentalist\, disc jockey\, talent buyer\, 
 promoter\, mother and yogi. Hailing from the Iron Range of Northern Minnes
 ota\, she is no stranger to the great outdoors.Her music blends the feroci
 ty and rawness of nature’s elements\, the new and exciting energy of a h
 ouse show\, mixed with the adrenaline rush of an all-night downtown disco.
  Her first-rate songwriting has been showcased in previous bands like Pink
  Mink and Ouija Radio\, as well as her raw and unforgettable stage perform
 ances in Monica LaPlante\, Butchers Union\, The Von Bondies and Extraterre
 strials. This is Christy’s turn to step to the front.\n\nCellmate is a 
 Kingston\, New York–based project comprised of Maria Alvarez and Steven 
 Markota. The duo is backed by drummer Chris Gartmann and guitarist Jacob K
 olbinski. Influenced by the energy of garage rock\, the freedom of electro
 nic music\, and the ethos of punk\, the duo has amassed a collection of so
 ngs sure to electrify and excite.\n\nDCxPC Live is a vinyl record label a
 nd live show promotion company specializing in punk\, hardcore\, ska\, and
  metal. We capture the raw energy of the scene on vinyl and bring it to li
 fe through live events that celebrate the unstoppable spirit of the punk r
 ock community. At DCxPC Live\, we are dedicated to building and supporting
  an inclusive music scene that’s safe for everyone. We believe in creati
 ng a space where art\, activism\, and community come together. Rooted in p
 unk rock\, we believe in its power to stand against injustice and create p
 ositive change. Raw sound. Real community. Punk rock love. That’s the DC
 xPC Live way.
ATTACH;FMTTYPE=image/jpeg:https://kingstonhappenings.org/wp-content/upload
 s/2026/03/514-IG-Square-Unicorn.png
CATEGORIES:@Featured,Music,Nightlife and entertainment
LOCATION:Snapper Magee's\, 59 N. Front St.\, Kingston\, New York\, 12401\, 
 United States
GEO:41.9352932;-74.02125000000001
X-APPLE-STRUCTURED-LOCATION;VALUE=URI;X-ADDRESS=59 N. Front St.\, Kingston\
 , New York\, 12401\, United States;X-APPLE-RADIUS=100;X-TITLE=Snapper Mage
 e's:geo:41.9352932,-74.02125000000001
END:VEVENT
BEGIN:VTIMEZONE
TZID:America/New_York
X-LIC-LOCATION:America/New_York
BEGIN:DAYLIGHT
DTSTART:20260308T030000
TZOFFSETFROM:-0500
TZOFFSETTO:-0400
TZNAME:EDT
END:DAYLIGHT
END:VTIMEZONE
END:VCALENDAR