BEGIN:VCALENDAR
VERSION:2.0
PRODID:-//wp-events-plugin.com//7.2.3.1//EN
TZID:America/New_York
X-WR-TIMEZONE:America/New_York
BEGIN:VEVENT
UID:156409@kingstonhappenings.org
DTSTART;TZID=America/New_York:20260517T160000
DTEND;TZID=America/New_York:20260517T213000
DTSTAMP:20260421T183301Z
URL:https://kingstonhappenings.org/events/dcxpc-live-benefit-for-uc-spca/
SUMMARY:DCxPC Live Benefit for UC SPCA
DESCRIPTION:Support the Ulster County SPCA at this DCxPC Live benefit show 
 on May 17 at Snapper Magee’s in Kingston\, NY\n\nBaba Slaga (HV)\n\nDisc
 ount Fireworks (CT)\n\nChrist Pipe (PA)\n\nDave Strong (ME)\n\nOrangutwins
  (HV)\n\n21+\, doors at 4\, music at 5\, $5–$10\n\nTickets
ATTACH;FMTTYPE=image/jpeg:https://kingstonhappenings.org/wp-content/upload
 s/2026/04/DCxPC_Showbill_5_17_ig.png
CATEGORIES:@Featured,@Newsletter,@Weekly Pick,Music,Nightlife and
 entertainment
LOCATION:Snapper Magee's\, 59 N. Front St.\, Kingston\, New York\, 12401\, 
 United States
GEO:41.9352932;-74.02125000000001
X-APPLE-STRUCTURED-LOCATION;VALUE=URI;X-ADDRESS=59 N. Front St.\, Kingston\
 , New York\, 12401\, United States;X-APPLE-RADIUS=100;X-TITLE=Snapper Mage
 e's:geo:41.9352932,-74.02125000000001
END:VEVENT
BEGIN:VTIMEZONE
TZID:America/New_York
X-LIC-LOCATION:America/New_York
BEGIN:DAYLIGHT
DTSTART:20260308T030000
TZOFFSETFROM:-0500
TZOFFSETTO:-0400
TZNAME:EDT
END:DAYLIGHT
END:VTIMEZONE
END:VCALENDAR