BEGIN:VCALENDAR
VERSION:2.0
PRODID:-//wp-events-plugin.com//7.2.3.1//EN
TZID:America/New_York
X-WR-TIMEZONE:America/New_York
BEGIN:VEVENT
UID:153330@kingstonhappenings.org
DTSTART;TZID=America/New_York:20260101T130000
DTEND;TZID=America/New_York:20260101T160000
DTSTAMP:20260105T125218Z
URL:https://kingstonhappenings.org/events/day-1-walk/
SUMMARY:Day 1 Walk
DESCRIPTION:We invite you and your neighbors to gather as fellow human bein
 gs and walk. Starting at Dietz Stadium at 1pm. Ending at The Greenhouse at
  65 St. James St. Following the walk we can gather to get warm\, have some
  hot drinks and continue discussions.\n\nThis is not a protest and there i
 s no agenda\, it is just unity. We walk together in solidarity\, and start
  over from Day 1. We put aside what divides us and focus on what unites us
  – our humanity. This is just one day to simply walk together.\n\nIn the
  face of so much that divides us\, let us not forget that we are united by
  the bonds of our common fellowship in the human race.
ATTACH;FMTTYPE=image/jpeg:https://kingstonhappenings.org/wp-content/upload
 s/2025/12/24de6c5f-day1-2024sq.jpg
CATEGORIES:@Featured,@Newsletter,Community,Festivals and major community
 events,Nightlife and entertainment,Sports and recreation
LOCATION:Dietz Stadium\, 170 N. Front St.\, Kingston\, NY\, 12401\, United 
 States
GEO:41.934621;-74.02724799999999
X-APPLE-STRUCTURED-LOCATION;VALUE=URI;X-ADDRESS=170 N. Front St.\, Kingston
 \, NY\, 12401\, United States;X-APPLE-RADIUS=100;X-TITLE=Dietz Stadium:geo
 :41.934621,-74.02724799999999
END:VEVENT
BEGIN:VTIMEZONE
TZID:America/New_York
X-LIC-LOCATION:America/New_York
BEGIN:STANDARD
DTSTART:20251102T010000
TZOFFSETFROM:-0400
TZOFFSETTO:-0500
TZNAME:EST
END:STANDARD
END:VTIMEZONE
END:VCALENDAR