BEGIN:VCALENDAR
VERSION:2.0
PRODID:-//wp-events-plugin.com//7.2.3.1//EN
TZID:America/New_York
X-WR-TIMEZONE:America/New_York
BEGIN:VEVENT
UID:152331@kingstonhappenings.org
DTSTART;TZID=America/New_York:20251017T193000
DTEND;TZID=America/New_York:20251017T193000
DTSTAMP:20251020T141539Z
URL:https://kingstonhappenings.org/events/danielia-cotton-the-falcon/
SUMMARY:Danielia Cotton @ The Falcon
DESCRIPTION:With an equal emphasis on rock\, jazz\, and soul — and with r
 oots in gospel — New York-based singer Danielia Cotton draws on a wide r
 ange of influences\, from Led Zeppelin and The Rolling Stones to Mavis Sta
 ples and Etta James.
ATTACH;FMTTYPE=image/jpeg:https://kingstonhappenings.org/wp-content/upload
 s/2025/10/539862643_1186276323534638_7730724074458403311_n.jpg
CATEGORIES:@Featured,@Newsletter,Music,Nightlife and entertainment
LOCATION:The Falcon\, 1348 Route 9W\, Marlboro\, NY\, United States
GEO:41.6061213;-73.97065420000001
X-APPLE-STRUCTURED-LOCATION;VALUE=URI;X-ADDRESS=1348 Route 9W\, Marlboro\, 
 NY\, United States;X-APPLE-RADIUS=100;X-TITLE=The Falcon:geo:41.6061213,-7
 3.97065420000001
END:VEVENT
BEGIN:VTIMEZONE
TZID:America/New_York
X-LIC-LOCATION:America/New_York
BEGIN:DAYLIGHT
DTSTART:20250309T030000
TZOFFSETFROM:-0500
TZOFFSETTO:-0400
TZNAME:EDT
END:DAYLIGHT
END:VTIMEZONE
END:VCALENDAR