BEGIN:VCALENDAR
VERSION:2.0
PRODID:-//wp-events-plugin.com//7.2.3.1//EN
TZID:America/New_York
X-WR-TIMEZONE:America/New_York
BEGIN:VEVENT
UID:152792@kingstonhappenings.org
DTSTART;TZID=America/New_York:20251206T190000
DTEND;TZID=America/New_York:20251206T220000
DTSTAMP:20251201T191451Z
URL:https://kingstonhappenings.org/events/dan-claudia-zanes/
SUMMARY:Dan & Claudia Zanes
DESCRIPTION:Saturday December 6 2025\nDoors 7 PM\, music 7:30\nFree admissi
 on\, donations go to the performers\nYoung persons age 8 and over welcome!
 \nGrammy Award winning rocker turned all-ages entertainer Dan Zanes (the
  Del Fuegos) and Haitian-American jazz vocalist/music therapist Claudia Z
 anes have been singing in harmony since the day they met in 2016. They pe
 rform their soulful style of folk music extensively throughout the United 
 States and have released two records on the legendary Smithsonian Folkways
  label. Their most recent\, Pieces of Home expands their vision of joyfu
 l intergenerational porch party music.\nJoining them for extra music and m
 erriment will be Elena Moon Park on trumpet and violin.\nRSVP and donate e
 arly via Eventbrite – seating is limited! $20 suggested donation per-pe
 rson\; let us know how many seats you’d like to reserve.
ATTACH;FMTTYPE=image/jpeg:https://kingstonhappenings.org/wp-content/upload
 s/2025/11/5d5db0f2f43477290d1898f7_ca3f9377-238a-408f-a8d3-c65f54efd645.pn
 g
CATEGORIES:@Featured,@Newsletter,Music
LOCATION:Chromatic Studios\, 71 O'Neil St. \, Kingston\, NY\, 12401\, Unite
 d States
GEO:41.932209;-74.003624
X-APPLE-STRUCTURED-LOCATION;VALUE=URI;X-ADDRESS=71 O'Neil St. \, Kingston\,
  NY\, 12401\, United States;X-APPLE-RADIUS=100;X-TITLE=Chromatic Studios:g
 eo:41.932209,-74.003624
END:VEVENT
BEGIN:VTIMEZONE
TZID:America/New_York
X-LIC-LOCATION:America/New_York
BEGIN:STANDARD
DTSTART:20251102T010000
TZOFFSETFROM:-0400
TZOFFSETTO:-0500
TZNAME:EST
END:STANDARD
END:VTIMEZONE
END:VCALENDAR