BEGIN:VCALENDAR
VERSION:2.0
PRODID:-//wp-events-plugin.com//7.2.3.1//EN
TZID:America/New_York
X-WR-TIMEZONE:America/New_York
BEGIN:VEVENT
UID:152170@kingstonhappenings.org
DTSTART;TZID=America/New_York:20251025T193000
DTEND;TZID=America/New_York:20251025T230000
DTSTAMP:20251006T175305Z
URL:https://kingstonhappenings.org/events/cult-movie-double-feature/
SUMMARY:Cult Movie Double Feature
DESCRIPTION:Join us for our third annual spooky season double feature\, whe
 re we show two creepy cult classics\, back to back on one October night. T
 his year:  John Llewellyn Moxey's 1960 classic\, City of the Dead (AKA Ho
 rror Hotel) starring Christopher Lee\, and William Castle's 1959 masterpie
 ce\, House on Haunted Hill (starring Vincent Price)! Entry $10\, advance t
 ickets available here or in person at World's End Comics. Must be 16 or ol
 der to attend. Alcohol 21+ with valid ID. Doors at 7:30\, screening at 8 p
 m.
ATTACH;FMTTYPE=image/jpeg:https://kingstonhappenings.org/wp-content/upload
 s/2025/10/2025-movie-posters.jpg
CATEGORIES:Movies
LOCATION:World's End Comics\, 319 Wall St.\, KINGSTON\, NY\, 12401\, United
  States
GEO:41.934516;-74.020327
X-APPLE-STRUCTURED-LOCATION;VALUE=URI;X-ADDRESS=319 Wall St.\, KINGSTON\, N
 Y\, 12401\, United States;X-APPLE-RADIUS=100;X-TITLE=World's End Comics:ge
 o:41.934516,-74.020327
END:VEVENT
BEGIN:VTIMEZONE
TZID:America/New_York
X-LIC-LOCATION:America/New_York
BEGIN:DAYLIGHT
DTSTART:20250309T030000
TZOFFSETFROM:-0500
TZOFFSETTO:-0400
TZNAME:EDT
END:DAYLIGHT
END:VTIMEZONE
END:VCALENDAR