BEGIN:VCALENDAR
VERSION:2.0
PRODID:-//wp-events-plugin.com//7.2.3.1//EN
TZID:America/New_York
X-WR-TIMEZONE:America/New_York
BEGIN:VEVENT
UID:154931@kingstonhappenings.org
DTSTART;TZID=America/New_York:20260212T183000
DTEND;TZID=America/New_York:20260212T200000
DTSTAMP:20260120T203943Z
URL:https://kingstonhappenings.org/events/crime-on-the-hudson-gilded-age-p
 irates-and-river-thieves/
SUMMARY:Crime on the Hudson: Gilded Age Pirates and River Thieves
DESCRIPTION:Do you ever wonder if there were actual pirates on the Hudson R
 iver? Come and learn about a wild chapter in Hudson River history when mer
 cenary sloops prowled the waterway\, raiding mansions and plundering merch
 ant ships. Who were these river outlaws stirring up chaos…and how did lo
 cal communities and the law fight back?\n\n&nbsp\;\n\nThe evening will beg
 in with a brief lecture on the real and sometimes legendary criminal activ
 ity along the Hudson in the 1860s and 1870s\, followed by an immersive per
 formance starring the era’s most infamous characters in the flesh\, incl
 uding the mysterious young woman rumored to have led a notorious Lower Man
 hattan gang. Watch as she is put on trial for her alleged crimes. Is she g
 uilty? How does her story end? Who decides her fate?\n\n&nbsp\;\n\nThis sp
 ecial event weaves scholarship and storytelling\, created and presented by
  HRMM’s Education Department in collaboration with Siren Theatre Company
 .
ATTACH;FMTTYPE=image/jpeg:https://kingstonhappenings.org/wp-content/upload
 s/2026/01/Crime-CCs-image.jpg
CATEGORIES:@Featured,Educational classes and lectures,History,Theater
LOCATION:Hudson River Maritime Museum\, 50 Rondout Landing\, Kingston\, NY\
 , 12401\, United States
GEO:41.91886;-73.980984
X-APPLE-STRUCTURED-LOCATION;VALUE=URI;X-ADDRESS=50 Rondout Landing\, Kingst
 on\, NY\, 12401\, United States;X-APPLE-RADIUS=100;X-TITLE=Hudson River Ma
 ritime Museum:geo:41.91886,-73.980984
END:VEVENT
BEGIN:VTIMEZONE
TZID:America/New_York
X-LIC-LOCATION:America/New_York
BEGIN:STANDARD
DTSTART:20251102T010000
TZOFFSETFROM:-0400
TZOFFSETTO:-0500
TZNAME:EST
END:STANDARD
END:VTIMEZONE
END:VCALENDAR