BEGIN:VCALENDAR
VERSION:2.0
PRODID:-//wp-events-plugin.com//7.2.3.1//EN
TZID:America/New_York
X-WR-TIMEZONE:America/New_York
BEGIN:VEVENT
UID:155866@kingstonhappenings.org
DTSTART;TZID=America/New_York:20260424T193000
DTEND;TZID=America/New_York:20260424T193000
DTSTAMP:20260420T164328Z
URL:https://kingstonhappenings.org/events/crime-on-the-hudson-gilded-age-p
 irates-and-river-thieves-performance-lecture/
SUMMARY:Crime on the Hudson: Gilded Age Pirates and River Thieves - Perform
 ance Lecture
DESCRIPTION:Do you ever wonder if there were actual pirates on the Hudson R
 iver? Come and learn about a wild chapter in Hudson River history when mer
 cenary sloops prowled the waterway\, raiding mansions and plundering merch
 ant ships. Who were these river outlaws stirring up chaos…and how did lo
 cal communities and the law fight back?\n\nThe evening will begin with a b
 rief lecture on the real and sometimes legendary criminal activity along t
 he Hudson in the 1860s and 1870s\, followed by an immersive performance st
 arring the era’s most infamous characters in the flesh\, including the m
 ysterious young woman rumored to have led a notorious Lower Manhattan gang
 . Watch as she is put on trial for her alleged crimes. Is she guilty? How 
 does her story end? Who decides her fate?\n\nThis special event weaves sch
 olarship and storytelling\, created and presented by HRMM’s Education De
 partment in collaboration with Siren Theatre Company.\n\nPlease note that 
 while we welcome walk-ins\, space is limited. We strongly recommend regist
 ering ahead of the event. Thank you!
ATTACH;FMTTYPE=image/jpeg:https://kingstonhappenings.org/wp-content/upload
 s/2026/03/sadiefarrrell_orig.jpg
CATEGORIES:@Featured,@Newsletter,Educational classes and lectures,Theater
LOCATION:Hudson River Maritime Museum\, 50 Rondout Landing\, Kingston\, NY\
 , 12401\, United States
GEO:41.91886;-73.980984
X-APPLE-STRUCTURED-LOCATION;VALUE=URI;X-ADDRESS=50 Rondout Landing\, Kingst
 on\, NY\, 12401\, United States;X-APPLE-RADIUS=100;X-TITLE=Hudson River Ma
 ritime Museum:geo:41.91886,-73.980984
END:VEVENT
BEGIN:VTIMEZONE
TZID:America/New_York
X-LIC-LOCATION:America/New_York
BEGIN:DAYLIGHT
DTSTART:20260308T030000
TZOFFSETFROM:-0500
TZOFFSETTO:-0400
TZNAME:EDT
END:DAYLIGHT
END:VTIMEZONE
END:VCALENDAR