BEGIN:VCALENDAR
VERSION:2.0
PRODID:-//wp-events-plugin.com//7.2.3.1//EN
TZID:America/New_York
X-WR-TIMEZONE:America/New_York
BEGIN:VEVENT
UID:156315@kingstonhappenings.org
DTSTART;TZID=America/New_York:20260422T150000
DTEND;TZID=America/New_York:20260422T200000
DTSTAMP:20260420T164319Z
URL:https://kingstonhappenings.org/events/crafthv-craft-supply-swap/
SUMMARY:CraftHV Craft Supply Swap
DESCRIPTION:EARTH DAY ART SUPPLY SWAP AT @senategarage on 4/22!!!! our ne
 xt collab with @connect.hv (craft HV) looks a little different. ever sin
 ce we started taking craft donations\, we realized a couple things: we all
  thrift clothes\, why can’t we thrift more art supplies? we learned how 
 many art supplies are circulating around and lingering in people’s basem
 ents from taking donations. most of them are like new. we realized how fre
 eing it is to let things go and live a new life with someone else\, how sa
 tisfying it is to exchange\, and that it’s a great way to meet fellow cr
 afters!!\n\nthis is a lovely little collab between @connect.hv \, @rewi
 ndkingston\, @coworkkingston\, @holdingspace.place\, &amp\; @howdoyouno
 urish\n\nwe will be swapping and donating what we recieve to various organ
 izations and nonprofits who can use the supplies!!! one being the art yard
  sale by @mkadkingston on 4/25–one of my favorite days of the year.
ATTACH;FMTTYPE=image/jpeg:https://kingstonhappenings.org/wp-content/upload
 s/2026/04/1-1.png
CATEGORIES:@Featured,@Newsletter,Festivals and major community events
LOCATION:Senate Garage\, 4 North Front St.\, KINGSTON\, NY\, 12401\, United
  States
GEO:41.935258;-74.018948
X-APPLE-STRUCTURED-LOCATION;VALUE=URI;X-ADDRESS=4 North Front St.\, KINGSTO
 N\, NY\, 12401\, United States;X-APPLE-RADIUS=100;X-TITLE=Senate Garage:ge
 o:41.935258,-74.018948
END:VEVENT
BEGIN:VTIMEZONE
TZID:America/New_York
X-LIC-LOCATION:America/New_York
BEGIN:DAYLIGHT
DTSTART:20260308T030000
TZOFFSETFROM:-0500
TZOFFSETTO:-0400
TZNAME:EDT
END:DAYLIGHT
END:VTIMEZONE
END:VCALENDAR