BEGIN:VCALENDAR
VERSION:2.0
PRODID:-//wp-events-plugin.com//7.2.3.1//EN
TZID:America/New_York
X-WR-TIMEZONE:America/New_York
BEGIN:VEVENT
UID:152273@kingstonhappenings.org
DTSTART;TZID=America/New_York:20251015T180000
DTEND;TZID=America/New_York:20251015T210000
DTSTAMP:20251013T172031Z
URL:https://kingstonhappenings.org/events/crafthv-collage-night/
SUMMARY:CraftHV Collage Night
DESCRIPTION:Come to the second-ever Craft HV\, a collaboration between Conn
 ectHV\, Rewind Kingston\, and CoWork Kingston! Create your own collage wit
 h vintage maps\, pressed local flowers from Adelaar Farms\, and HV1 newspa
 pers.\n\nFREE EVENT\n\nWednesday\, October 15\,  6 - 9pm\nSenate Garage\n
 4 North Front Street Kingston\, NY 12401\nSAVE YOUR SPOT
ATTACH;FMTTYPE=image/jpeg:https://kingstonhappenings.org/wp-content/upload
 s/2025/10/Untitled-1-12.png
CATEGORIES:@Featured,@Newsletter,Art
LOCATION:Senate Garage\, 4 North Front St.\, KINGSTON\, NY\, 12401\, United
  States
GEO:41.935258;-74.018948
X-APPLE-STRUCTURED-LOCATION;VALUE=URI;X-ADDRESS=4 North Front St.\, KINGSTO
 N\, NY\, 12401\, United States;X-APPLE-RADIUS=100;X-TITLE=Senate Garage:ge
 o:41.935258,-74.018948
END:VEVENT
BEGIN:VTIMEZONE
TZID:America/New_York
X-LIC-LOCATION:America/New_York
BEGIN:DAYLIGHT
DTSTART:20250309T030000
TZOFFSETFROM:-0500
TZOFFSETTO:-0400
TZNAME:EDT
END:DAYLIGHT
END:VTIMEZONE
END:VCALENDAR