BEGIN:VCALENDAR
VERSION:2.0
PRODID:-//wp-events-plugin.com//7.2.3.1//EN
TZID:America/New_York
X-WR-TIMEZONE:America/New_York
BEGIN:VEVENT
UID:155373@kingstonhappenings.org
DTSTART;TZID=America/New_York:20260224T180000
DTEND;TZID=America/New_York:20260224T210000
DTSTAMP:20260223T152156Z
URL:https://kingstonhappenings.org/events/crafthv-collage-night-2/
SUMMARY:CraftHV Collage Night
DESCRIPTION:Create your own collage with magazines\, newspapers\, and fun f
 inds we've collected for you.\n\nWhat do you need to bring?\nWe've got you
  covered! Please feel free to just come and enjoy.\nWalk-ins are welcome\,
  but RSVPs help us know how much we need to get prepped in advance.\n\nHow
  can you contribute?\nPlease feel free to bring magazines\, newspapers\, b
 its of wrapping paper\, postcards\, greeting cards\, maps - basically anyt
 hing that would make a great contribution to a collage.\n\nWant to drop-of
 f supplies in advance of the event?\nNo problem. Please feel free to drop-
 off collage supplies prior to the event at either Rewind Kingston or Co
 Work Kingston during operating hours.\n\nAn event for you and supported b
 y you. &#x2665\;&#xfe0f\;\n\nThis event is brought to you by:\nConnectHV +
  CraftHV\, CoWork Kingston\, Rewind Kingston\, and Holding Space\n\nRSV
 P HERE
ATTACH;FMTTYPE=image/jpeg:https://kingstonhappenings.org/wp-content/upload
 s/2026/02/Untitled-3-36.png
CATEGORIES:@Featured,@Newsletter,Art,Community
LOCATION:Senate Garage\, 4 North Front St.\, KINGSTON\, NY\, 12401\, United
  States
GEO:41.935258;-74.018948
X-APPLE-STRUCTURED-LOCATION;VALUE=URI;X-ADDRESS=4 North Front St.\, KINGSTO
 N\, NY\, 12401\, United States;X-APPLE-RADIUS=100;X-TITLE=Senate Garage:ge
 o:41.935258,-74.018948
END:VEVENT
BEGIN:VTIMEZONE
TZID:America/New_York
X-LIC-LOCATION:America/New_York
BEGIN:STANDARD
DTSTART:20251102T010000
TZOFFSETFROM:-0400
TZOFFSETTO:-0500
TZNAME:EST
END:STANDARD
END:VTIMEZONE
END:VCALENDAR