BEGIN:VCALENDAR
VERSION:2.0
PRODID:-//wp-events-plugin.com//7.2.3.1//EN
TZID:America/New_York
X-WR-TIMEZONE:America/New_York
BEGIN:VEVENT
UID:156438@kingstonhappenings.org
DTSTART;TZID=America/New_York:20260505T180000
DTEND;TZID=America/New_York:20260505T193000
DTSTAMP:20260424T131450Z
URL:https://kingstonhappenings.org/events/cpw-photo-club-capstone-presenta
 tions-by-bard-photography-senior-seminar/
SUMMARY:CPW Photo Club: Capstone Presentations by Bard Photography Senior S
 eminar
DESCRIPTION:On Tuesday\, May 5\, we welcome ten students of Bard's Photogra
 phy Program Class of 2026 to Photo Club night at CPW to talk about their i
 n-progress capstone senior projects. The artists — Ela Bosworth-Tetikogl
 u\, Gabriel Chermack\, David Gorospe\, Yujian Han\, Leeloo Hellie\, Nathan
  Miller\, Kathleen Robertson\, Nicholas Siao-Claassen\, Iris Vanderloo\, a
 nd Francis Zhou — will each give a brief presentation on their practice 
 and projects. This event will be live-streamed on CPW’s YouTube page at 
 6pm.
CATEGORIES:@Featured,Art,Community,Educational classes and lectures
LOCATION:Center for Photography at Woodstock(CPW)\, 25 Dederick St. \, King
 ston\, NY\, 12401\, United States
GEO:41.92761;-73.998774
X-APPLE-STRUCTURED-LOCATION;VALUE=URI;X-ADDRESS=25 Dederick St. \, Kingston
 \, NY\, 12401\, United States;X-APPLE-RADIUS=100;X-TITLE=Center for Photog
 raphy at Woodstock(CPW):geo:41.92761,-73.998774
END:VEVENT
BEGIN:VTIMEZONE
TZID:America/New_York
X-LIC-LOCATION:America/New_York
BEGIN:DAYLIGHT
DTSTART:20260308T030000
TZOFFSETFROM:-0500
TZOFFSETTO:-0400
TZNAME:EDT
END:DAYLIGHT
END:VTIMEZONE
END:VCALENDAR