BEGIN:VCALENDAR
VERSION:2.0
PRODID:-//wp-events-plugin.com//7.2.3.1//EN
TZID:America/New_York
X-WR-TIMEZONE:America/New_York
BEGIN:VEVENT
UID:154694@kingstonhappenings.org
DTSTART;TZID=America/New_York:20260122T160000
DTEND;TZID=America/New_York:20260122T180000
DTSTAMP:20260119T161844Z
URL:https://kingstonhappenings.org/events/cozy-hygge-night/
SUMMARY:Cozy "Hygge" Night!
DESCRIPTION:hygge  /ˈho͞oɡə\,ˈho͝oɡə/ noun: a quality of cozines
 s and comfortable conviviality that engenders a feeling of contentment or 
 well-being (regarded as a defining characteristic of Danish culture).- Oxf
 ord Languages\n\nDrop in for some hygge at the library! Bring blankets and
  pillows to set up some cozy nooks and forts in the children's area for re
 ading\, coloring or journaling. We'll have hot cocoa\, snacks\, and colori
 ng books. You can bring your own projects\, books\, or headphones\, or
  grab something to read once you're here! (this *IS* a library after al
 l!)\n\nFree and perfect for ages 7+
ATTACH;FMTTYPE=image/jpeg:https://kingstonhappenings.org/wp-content/upload
 s/2026/01/Untitled-design-2.jpg
CATEGORIES:@Featured,@Newsletter,For kids
LOCATION:Town of Ulster Library\, 860 Ulster Ave.\, Kingston\, New York\, 1
 2401\, United States
GEO:41.9546291;-73.99388220000003
X-APPLE-STRUCTURED-LOCATION;VALUE=URI;X-ADDRESS=860 Ulster Ave.\, Kingston\
 , New York\, 12401\, United States;X-APPLE-RADIUS=100;X-TITLE=Town of Ulst
 er Library:geo:41.9546291,-73.99388220000003
END:VEVENT
BEGIN:VTIMEZONE
TZID:America/New_York
X-LIC-LOCATION:America/New_York
BEGIN:STANDARD
DTSTART:20251102T010000
TZOFFSETFROM:-0400
TZOFFSETTO:-0500
TZNAME:EST
END:STANDARD
END:VTIMEZONE
END:VCALENDAR