BEGIN:VCALENDAR
VERSION:2.0
PRODID:-//wp-events-plugin.com//7.2.3.1//EN
TZID:America/New_York
X-WR-TIMEZONE:America/New_York
BEGIN:VEVENT
UID:153155@kingstonhappenings.org
DTSTART;TZID=America/New_York:20260404T190000
DTEND;TZID=America/New_York:20260404T233000
DTSTAMP:20260330T171026Z
URL:https://kingstonhappenings.org/events/coyote-island-at-the-lemon-squee
 ze-tavern/
SUMMARY:Coyote Island at The Lemon Squeeze Tavern
DESCRIPTION:Get your tickets here: https://www.ticketleap.events/tickets/th
 elemonsqueeze/coyote-island\n\n&nbsp\;\nCoyote Island is the musical visio
 n of Maine-based producer\, songwriter\, and multi-instrumentalist Mike O
 ’Hehir. Assembling a band of brothers\, they have blended folk roots\, r
 eggae rhythms\, and psychedelic indie\, the band crafts music that feels l
 ike a sonic escape.\nFrom their breakout release “Here Before” to thei
 r latest album\, Shadow Magic (2025)\, they’ve expanded their sound into
  deeper grooves and vivid storytelling—melding tropical textures\, hypno
 tic beats\, and a spirit of reflection. Described as both electric and tra
 nsportive\, Coyote Island’s live shows offer tropical psychedelia and a 
 sonic vacation from the doldrums of existence.
ATTACH;FMTTYPE=image/jpeg:https://kingstonhappenings.org/wp-content/upload
 s/2025/12/Min-MAIN-APPROVED-L._imresizer.jpg
CATEGORIES:@Featured,@Newsletter,Music,Nightlife and entertainment
LOCATION:New Paltz\, 1 Main St.\, New Paltz\, NY\, 12401\, United States
GEO:41.74665;-74.089992
X-APPLE-STRUCTURED-LOCATION;VALUE=URI;X-ADDRESS=1 Main St.\, New Paltz\, NY
 \, 12401\, United States;X-APPLE-RADIUS=100;X-TITLE=New Paltz:geo:41.74665
 ,-74.089992
END:VEVENT
BEGIN:VTIMEZONE
TZID:America/New_York
X-LIC-LOCATION:America/New_York
BEGIN:DAYLIGHT
DTSTART:20260308T030000
TZOFFSETFROM:-0500
TZOFFSETTO:-0400
TZNAME:EDT
END:DAYLIGHT
END:VTIMEZONE
END:VCALENDAR