BEGIN:VCALENDAR
VERSION:2.0
PRODID:-//wp-events-plugin.com//7.2.3.1//EN
TZID:America/New_York
X-WR-TIMEZONE:America/New_York
BEGIN:VEVENT
UID:153137@kingstonhappenings.org
DTSTART;TZID=America/New_York:20251218T190000
DTEND;TZID=America/New_York:20251218T190000
DTSTAMP:20251222T135310Z
URL:https://kingstonhappenings.org/events/county-hell-a-tribute-to-the-pog
 ues/
SUMMARY:County Hell: A Tribute to The Pogues
DESCRIPTION:Join us at Colony Woodstock for an unforgettable evening of rau
 cous Celtic rock\, punk-infused ballads\, and sing-along anthems\, as Coun
 ty Hell channels the spirit of The Pogues in a high-energy tribute set.\nH
 ailing from the Hudson Valley\, County Hell has earned a reputation as “
 the ultimate party band” with a love for dirge\, drink\, and dance. With
  blistering renditions of classics like “Dirty Old Town\,” “Sally Ma
 cLennane\,” “Thousands Are Sailing\,” and the festive favorite “Fa
 irytale of New York\,” they deliver raw emotion and contagious energy in
  every set.\nExpect a wild\, immersive night full of accordion\, banjo\, f
 iddle and driving rhythms — you’ll be raising pints\, stomping your fe
 et\, and singing until your voice gives out.\nBio\nCounty Hell is a lively
  Celtic rock group performing the legendary music of The Pogues.Accordion\
 , banjo\, fiddle blend with the dynamic exuberance of rock &amp\; roll.Fro
 m ancient sea shanties and classic ballads to raucous jigs\, County Hell
 —based in the Kingston area—keeps the energy high and the spirit of mo
 dern Irish music alive.\nMembers:Matty Dread – vocals\, guitarLibby Zema
 itis – fiddle\, vocalsMike Piastro – banjo\, vocalsKasia Sosnowski –
  accordion\, vocalsJason Sarubbi – bass\, vocalsChristopher Bradley – 
 drums
ATTACH;FMTTYPE=image/jpeg:https://kingstonhappenings.org/wp-content/upload
 s/2025/12/561010914_1465768072015417_2449717357422746880_n.jpg
CATEGORIES:@Featured,@Newsletter,Music,Nightlife and entertainment
LOCATION:Colony Woodstock NY\, 22 Rock City Rd\, Woodstock\, New York\, Uni
 ted States
GEO:42.0424924;-74.11799489999999
X-APPLE-STRUCTURED-LOCATION;VALUE=URI;X-ADDRESS=22 Rock City Rd\, Woodstock
 \, New York\, United States;X-APPLE-RADIUS=100;X-TITLE=Colony Woodstock NY
 :geo:42.0424924,-74.11799489999999
END:VEVENT
BEGIN:VTIMEZONE
TZID:America/New_York
X-LIC-LOCATION:America/New_York
BEGIN:STANDARD
DTSTART:20251102T010000
TZOFFSETFROM:-0400
TZOFFSETTO:-0500
TZNAME:EST
END:STANDARD
END:VTIMEZONE
END:VCALENDAR