BEGIN:VCALENDAR
VERSION:2.0
PRODID:-//wp-events-plugin.com//7.2.3.1//EN
TZID:America/New_York
X-WR-TIMEZONE:America/New_York
BEGIN:VEVENT
UID:152788@kingstonhappenings.org
DTSTART;TZID=America/New_York:20251206T100000
DTEND;TZID=America/New_York:20251206T120000
DTSTAMP:20251122T023613Z
URL:https://kingstonhappenings.org/events/contemporary-dance-class-mixed-l
 evels/
SUMMARY:Contemporary Dance Class (Mixed Levels)
DESCRIPTION:Vija Kemanis' two-hour contemporary class starts with a careful
 \, full body warmup influenced by her decades-long practice of Simonson Te
 chnique. The emphasis is on anatomical awareness with a healthy balance of
  stretching\, strengthening\, and dance technique. After center warmup and
  floor stretches\, Vija leads the class in progressions—short combinatio
 ns traveling across the studio. The class culminates in a longer dance com
 bination\, followed by a short period of student improvisation. Vija loves
  music and uses a variety of genres. Her contemporary movement incorporate
 s attention to musicality\, percussive/lyrical contrast\, fluidity\, and e
 motion.\n\nThe class is “Mixed Level\,” open to adults (16+) with any 
 level of dance experience from beginner to advanced.\n\n$15 - 30 sliding s
 cale tickets. 2 free spots for BIPOC folx available.
CATEGORIES:@Featured,Dance,Educational classes and lectures
LOCATION:WildHeart: Center for Performance and Embodiment Practice\, 183 Ea
 st Road\, Wallkill\, NY\, 12589\, United States
GEO:41.588939;-74.05362
X-APPLE-STRUCTURED-LOCATION;VALUE=URI;X-ADDRESS=183 East Road\, Wallkill\, 
 NY\, 12589\, United States;X-APPLE-RADIUS=100;X-TITLE=WildHeart: Center fo
 r Performance and Embodiment Practice:geo:41.588939,-74.05362
END:VEVENT
BEGIN:VTIMEZONE
TZID:America/New_York
X-LIC-LOCATION:America/New_York
BEGIN:STANDARD
DTSTART:20251102T010000
TZOFFSETFROM:-0400
TZOFFSETTO:-0500
TZNAME:EST
END:STANDARD
END:VTIMEZONE
END:VCALENDAR